BEGIN:VCALENDAR
VERSION:2.0
PRODID:-//ChamberMaster//Event Calendar 2.0//EN
METHOD:PUBLISH
X-PUBLISHED-TTL:P3D
REFRESH-INTERVAL:P3D
CALSCALE:GREGORIAN
BEGIN:VEVENT
DTSTART:20181020T143000Z
DTEND:20181020T170000Z
X-MICROSOFT-CDO-ALLDAYEVENT:FALSE
SUMMARY:Zombie Run For Brains
DESCRIPTION:Brain Injury Connections of the Shenandoah Valley\, Inc. is sponsoring the Fourth Annual ZOMBIE RUN FOR BRAINS to be held on Saturday\, October 20th at 11:00 am.\n\nCan you navigate your way through the grounds of Fear Forest without getting infected by the zombies that lurk along the way? Each participant will be given a flag football belt at the beginning of the race. Complete the 1.5 mile course with at least one flag left and you've survived! End the course without any flags left\, you've been infected and will need to be "disinfected" before you can rejoin society. If you choose to participate without a belt\, the zombies will not come after you and you will still have fun!\nWalkers and runners of all levels are welcome! This is a fun-run and not a timed course.\n\n\n\nDid you know that more than 28\,000 Virginians sustain a brain injury every year and more than 260\,000 Virginians are disabled because of brain injury? Proceeds from the ZOMBIE RUN FOR BRAINS will benefit Brain Injury Connections of the Shenandoah Valley\, formerly Crossroads to Brain Injury Recovery\, Inc. A non-profit organization that strives to improve the quality of life for those affected by brain injury in the counties of Rockingham\, Augusta\, Highland\, Bath\, Rockbridge and all the cities included within. Brain Injury Connections enhances the lives of individuals affected by brain injury through cultivating connections with information\, services and resources.
X-ALT-DESC;FMTTYPE=text/html:<p>Brain Injury Connections of the Shenandoah Valley\, Inc. is sponsoring the Fourth Annual ZOMBIE RUN FOR BRAINS to be held on Saturday\, October 20th at 11:00 am.</p>\n\n<p>Can you navigate your way through the grounds of Fear Forest without getting infected by the zombies that lurk along the way? Each participant will be given a flag football belt at the beginning of the race. Complete the 1.5 mile course with at least one flag left and you&rsquo\;ve survived! End the course without any flags left\, you&rsquo\;ve been infected and will need to be &ldquo\;disinfected&rdquo\; before you can rejoin society. If you choose to participate without a belt\, the zombies will not come after you and you will still have fun!</p>\nWalkers and runners of all levels are welcome! This is a fun-run and not a timed course.<br />\n<br />\nDid you know that more than 28\,000 Virginians sustain a brain injury every year and more than 260\,000 Virginians are disabled because of brain injury? Proceeds from the ZOMBIE RUN FOR BRAINS will benefit Brain Injury Connections of the Shenandoah Valley\, formerly Crossroads to Brain Injury Recovery\, Inc. A non-profit organization that strives to improve the quality of life for those affected by brain injury in the counties of Rockingham\, Augusta\, Highland\, Bath\, Rockbridge and all the cities included within. Brain Injury Connections enhances the lives of individuals affected by brain injury through cultivating connections with information\, services and resources.
LOCATION:Fear Forest 6340 Oak Shade Road Harrisonburg\, VA 22801
UID:e.2338.5982
SEQUENCE:3
DTSTAMP:20260420T090658Z
URL:https://chamber.hrchamber.org/events/details/zombie-run-for-brains-5982
END:VEVENT

END:VCALENDAR
