BEGIN:VCALENDAR
VERSION:2.0
PRODID:-//ChamberMaster//Event Calendar 2.0//EN
METHOD:PUBLISH
X-PUBLISHED-TTL:P3D
REFRESH-INTERVAL:P3D
CALSCALE:GREGORIAN
BEGIN:VEVENT
DTSTART:20170506T110000Z
DTEND:20170506T170000Z
X-MICROSOFT-CDO-ALLDAYEVENT:FALSE
SUMMARY:Yard Sale to Benefit Pleasant View\, Inc.
DESCRIPTION:Yard Sale to Benefit Pleasant View\, Inc. Saturday\, May 6\, 2017 from 7am to 1pm at the Belmont Yard Sale: 3135 Old Thirty-Three Rd.\, Harrisonburg\, Va.  All proceeds will help Pleasant View support individuals with intellectual disabilities through residential and day placements. Please come out and support us. The Kiwanis Aktion Club members will also have bake sale to raise money to buy backpacks for a Weekend Meal Backpack Program. If you want to volunteer to help with the yard sale or to donate items for the sale\, please contact Pam Miller at 540-560-1134 or email her at pmiller@pleasantviewinc.org.  Check out our Facebook page at www.facebook.com/pleasantviewinc/  or our website at www.pleasantviewinc.org/newsevents/.
X-ALT-DESC;FMTTYPE=text/html:<strong><u><span style="font-family:helvetica\,sans-serif"><span style="font-size:10.5pt">Yard Sale to Benefit Pleasant View\, Inc</span></span></u></strong><span style="font-family:helvetica\,sans-serif"><span style="font-size:10.5pt">. Saturday\, May 6\, 2017 from 7am to 1pm at the Belmont Yard Sale: 3135 Old Thirty-Three Rd.\, Harrisonburg\, Va.&nbsp\; All proceeds will help Pleasant View support individuals with intellectual disabilities through residential and day placements. Please come out and support us. The Kiwanis Aktion Club members will also have bake sale to raise money to buy backpacks for a Weekend Meal Backpack Program. If you want to volunteer to help with the yard sale or to donate items for the sale\, please contact Pam Miller at 540-560-1134 or email her at <a href="mailto:pmiller@pleasantviewinc.org">pmiller@pleasantviewinc.org</a>. &nbsp\;Check out our Facebook page at&nbsp\;</span></span><span style="color:#0072BC"><span style="font-family:helvetica\,sans-serif"><span style="font-size:10.5pt"><a href="http://www.facebook.com/pleasantviewinc/">www.facebook.com/pleasantviewinc<span style="font-family:calibri\,sans-serif"><span style="font-size:11.0pt">/</span></span></a></span></span></span><span style="font-family:helvetica\,sans-serif"><span style="font-size:10.5pt"> &nbsp\;or our website at&nbsp\;<span style="color:#0072BC"><a href="http://www.pleasantviewinc.org/newsevents/">www.pleasantviewinc.org<span style="font-family:calibri\,sans-serif"><span style="font-size:11.0pt">/newsevents/</span></span></a></span>.</span></span>
LOCATION:Belmont: 3135 Old Thirty-three Rd.\, Rockingham\, Va 22801
UID:e.2338.2643
SEQUENCE:3
DTSTAMP:20260419T192007Z
URL:https://chamber.hrchamber.org/events/details/yard-sale-to-benefit-pleasant-view-inc-2643
END:VEVENT

END:VCALENDAR
