BEGIN:VCALENDAR
VERSION:2.0
PRODID:-//ChamberMaster//Event Calendar 2.0//EN
METHOD:PUBLISH
X-PUBLISHED-TTL:P3D
REFRESH-INTERVAL:P3D
CALSCALE:GREGORIAN
BEGIN:VEVENT
DTSTART:20180407T220000Z
DTEND:20180408T010000Z
X-MICROSOFT-CDO-ALLDAYEVENT:FALSE
SUMMARY:WVPT Auction
DESCRIPTION:This evening will include a live auction and a silent auction featuring many wonderful items. It's the event of the season! Join us for a fun night\, all while supporting your community\, your story\, your station - WVPT. Hors d'oeuvres from Dayton Catering Wine from Bluestone Vineyard
X-ALT-DESC;FMTTYPE=text/html:This evening will include a live auction and a silent auction featuring many wonderful items. It&#39\;s the event of the season! Join us for a fun night\, all while supporting your community\, your story\, your station - WVPT. Hors d&#39\;oeuvres from Dayton Catering Wine from Bluestone Vineyard
LOCATION:Massanetta Springs Camp & Conference Center\, Harrisonburg VA
UID:e.2338.3595
SEQUENCE:3
DTSTAMP:20260420T131332Z
URL:https://chamber.hrchamber.org/events/details/wvpt-auction-3595
END:VEVENT

END:VCALENDAR
