BEGIN:VCALENDAR
VERSION:2.0
PRODID:-//ChamberMaster//Event Calendar 2.0//EN
METHOD:PUBLISH
X-PUBLISHED-TTL:P3D
REFRESH-INTERVAL:P3D
CALSCALE:GREGORIAN
BEGIN:VEVENT
DTSTART:20171209T170000Z
DTEND:20171209T230000Z
X-MICROSOFT-CDO-ALLDAYEVENT:FALSE
SUMMARY:Winter Wonderfest
DESCRIPTION:The holidays are magical in downtown Harrisonburg! Celebrate at Winter Wonderfest on December 9th from Noon to 6pm. This free\, community festival includes seasonal activities:\n\n\n\nNoon - 6PM: Art Market @ Larkin Arts\n\n1-3PM: Photos with Santa @ Agora Downtown Market\n\n4:30PM: ELF @ Court Square Theater. Shop downtown at any retailer and save your receipt to get into the show for free. \n\n5-6PM: Caroling throughout downtown from the Shenandoah Valley Children's Choir \n\n\n\nYou'll also run into the Grinch and Santa's elves throughout downtown. Make sure to take a selfie and post on Facebook or Instagram using the hashtag #WinterWonderfestHburg.\n\n\n\nStop by the host location\, which is the store next to Ten Thousand Villages Harrisonburg on the corner of Main and Bruce Street. This is the check-in location for the Cookie Tour\, but there will also be crafts\, holiday refreshments\, and games for everyone to enjoy. \n\n\n\nFor more information\, visit http://downtownharrisonburg.org/winter-wonderfest/
X-ALT-DESC;FMTTYPE=text/html:<div><span style="font-family:inherit\; font-size:14px">The holidays are magical in downtown Harrisonburg! Celebrate at Winter Wonderfest on December 9th from Noon to 6pm. This free\, community festival includes seasonal activities:<br />\n<br />\nNoon - 6PM: Art Market @&nbsp\;<a href="https://www.facebook.com/LarkinArts/" style="color: rgb(54\, 88\, 153)\; cursor: pointer\; font-family: inherit\;">Larkin Arts</a><br />\n1-3PM: Photos with Santa @&nbsp\;<a href="https://www.facebook.com/agoradowntownmarket/" style="color: rgb(54\, 88\, 153)\; cursor: pointer\; text-decoration-line: none\; font-family: inherit\;">Agora Downtown Market</a><br />\n4:30PM: ELF @&nbsp\;<a href="https://www.facebook.com/courtsquaretheater/" style="color: rgb(54\, 88\, 153)\; cursor: pointer\; text-decoration-line: none\; font-family: inherit\;">Court Square Theater</a>. Shop downtown at any retailer and save your receipt to get into the show for free.&nbsp\;<br />\n5-6PM: Caroling throughout downtown from the&nbsp\;<a href="https://www.facebook.com/shenandoah.valley.childrens.choir/" style="color: rgb(54\, 88\, 153)\; cursor: pointer\; text-decoration-line: none\; font-family: inherit\;">Shenandoah Valley Children&#39\;s Choir</a>&nbsp\;<br />\n<br />\nYou&#39\;ll also run into the Grinch and Santa&#39\;s elves throughout downtown. Make sure to take a selfie and post on Facebook or Instagram using the hashtag&nbsp\;<a class="_58cn" href="https://www.facebook.com/hashtag/winterwonderfesthburg" style="color: rgb(54\, 88\, 153)\; cursor: pointer\; text-decoration-line: none\; font-family: inherit\;">#WinterWonderfestHburg</a>.<br />\n<br />\nStop by the host location\, which is the store next to&nbsp\;<a href="https://www.facebook.com/Ten-Thousand-Villages-Harrisonburg-177960602245487/" style="color: rgb(54\, 88\, 153)\; cursor: pointer\; text-decoration-line: none\; font-family: inherit\;">Ten Thousand Villages Harrisonburg</a>&nbsp\;on the corner of Main and Bruce Street. This is the check-in location for the Cookie Tour\, but there will also be crafts\, holiday refreshments\, and games for everyone to enjoy.&nbsp\;<br />\n<br />\nFor more information\, visit&nbsp\;<u><a href="http://The holidays are magical in downtown Harrisonburg! Celebrate at Winter Wonderfest on December 9th from Noon to 6pm. This free\, community festival includes seasonal activities:  Noon - 6PM: Art Market @ Larkin Arts 1-3PM: Photos with Santa @ Agora Downtown Market 4:30PM: ELF @ Court Square Theater. Shop downtown at any retailer and save your receipt to get into the show for free.  5-6PM: Caroling throughout downtown from the Shenandoah Valley Children's Choir   You'll also run into the Grinch and Santa's elves throughout downtown. Make sure to take a selfie and post on Facebook or Instagram using the hashtag #WinterWonderfestHburg.  Stop by the host location\, which is the store next to Ten Thousand Villages Harrisonburg on the corner of Main and Bruce Street. This is the check-in location for the Cookie Tour\, but there will also be crafts\, holiday refreshments\, and games for everyone to enjoy.   For more information\, visit http://downtownharrisonburg.org/winter-wonderfest/"><span style="font-family:inherit">http://downtownharrisonburg.org/</span></a>winter-wonderfest<a href="http://The holidays are magical in downtown Harrisonburg! Celebrate at Winter Wonderfest on December 9th from Noon to 6pm. This free\, community festival includes seasonal activities:  Noon - 6PM: Art Market @ Larkin Arts 1-3PM: Photos with Santa @ Agora Downtown Market 4:30PM: ELF @ Court Square Theater. Shop downtown at any retailer and save your receipt to get into the show for free.  5-6PM: Caroling throughout downtown from the Shenandoah Valley Children's Choir   You'll also run into the Grinch and Santa's elves throughout downtown. Make sure to take a selfie and post on Facebook or Instagram using the hashtag #WinterWonderfestHburg.  Stop by the host location\, which is the store next to Ten Thousand Villages Harrisonburg on the corner of Main and Bruce Street. This is the check-in location for the Cookie Tour\, but there will also be crafts\, holiday refreshments\, and games for everyone to enjoy.   For more information\, visit http://downtownharrisonburg.org/winter-wonderfest/">/</a></u></span></div>\n
LOCATION:Check-in occurs on the Corner of S. Main St. and Bruce St.\, next to Ten Thousand Villages (181 S. Main St.). The event will have various locations downtown.
UID:e.2338.3336
SEQUENCE:3
DTSTAMP:20260420T054716Z
URL:https://chamber.hrchamber.org/events/details/winter-wonderfest-3336
END:VEVENT

END:VCALENDAR
