BEGIN:VCALENDAR
VERSION:2.0
PRODID:-//ChamberMaster//Event Calendar 2.0//EN
METHOD:PUBLISH
X-PUBLISHED-TTL:P3D
REFRESH-INTERVAL:P3D
CALSCALE:GREGORIAN
BEGIN:VEVENT
DTSTART:20190927T190000Z
DTEND:20190927T220000Z
X-MICROSOFT-CDO-ALLDAYEVENT:FALSE
SUMMARY:White Birch Communities - Oakwood Villa Open House
DESCRIPTION:Please join us for a tour of our Oakwood Villa Independent Living!
X-ALT-DESC;FMTTYPE=text/html:<span style="background-color:rgb(255\, 255\, 255)\; color:rgb(68\, 68\, 68)\; font-family:arial\,helvetica\,sans-serif\; font-size:16px">Please join us for a tour of our Oakwood Villa Independent Living!</span>
LOCATION:Oakwood Villa Independent Living condos
UID:e.2338.7037
SEQUENCE:3
DTSTAMP:20260419T172832Z
URL:https://chamber.hrchamber.org/events/details/white-birch-communities-oakwood-villa-open-house-7037
END:VEVENT

END:VCALENDAR
