BEGIN:VCALENDAR
VERSION:2.0
PRODID:-//ChamberMaster//Event Calendar 2.0//EN
METHOD:PUBLISH
X-PUBLISHED-TTL:P3D
REFRESH-INTERVAL:P3D
CALSCALE:GREGORIAN
BEGIN:VEVENT
DTSTART:20190928T150000Z
DTEND:20190928T190000Z
X-MICROSOFT-CDO-ALLDAYEVENT:FALSE
SUMMARY:White Birch Communities - Oakwood Villa Open House
DESCRIPTION:Please join us for a tour of our Oakwood Villa Independent Living!
X-ALT-DESC;FMTTYPE=text/html:Please join us for a tour of our Oakwood Villa Independent Living!
LOCATION:Oakwood Villa Independent Living condos
UID:e.2338.6949
SEQUENCE:3
DTSTAMP:20260419T173342Z
URL:https://chamber.hrchamber.org/events/details/white-birch-communities-oakwood-villa-open-house-09-28-2019-6949
END:VEVENT

END:VCALENDAR
