BEGIN:VCALENDAR
VERSION:2.0
PRODID:-//ChamberMaster//Event Calendar 2.0//EN
METHOD:PUBLISH
X-PUBLISHED-TTL:P3D
REFRESH-INTERVAL:P3D
CALSCALE:GREGORIAN
BEGIN:VEVENT
DTSTART:20181207T000000Z
DTEND:20181207T010000Z
X-MICROSOFT-CDO-ALLDAYEVENT:FALSE
SUMMARY:What Happens After “The End”?: Taking Your Book from Finished Draft to Publication
DESCRIPTION:So you've finally finished that book you've been working on for years. For many writers\, the next question is "What happens now?" What is the process that takes your work from finished manuscript to published book? What options are available?\n\n\n\nJoin us on for a panel discussion with local authors who have successfully traversed the publishing process. They will share their experiences of what has worked (or hasn't worked) for them and give insight and answer questions.\n\n\n\nThis is the first of an occasional series of programs that will explore issues around writing and publishing and celebrate the vibrant community of writers in the Shenandoah Valley and throughout Virginia.
X-ALT-DESC;FMTTYPE=text/html:<span style="font-size:14px"><span style="color:black"><span style="font-family:helvetica\,sans-serif">So you&#39\;ve finally finished that book you&#39\;ve been working on for years. For many writers\, the next question is &quot\;What happens now?&quot\; What is the process that takes your work from finished manuscript to published book? What options are available?<br />\n<br />\nJoin us on for a panel discussion with local authors who have successfully traversed the publishing process. They will share their experiences of what has worked (or hasn&#39\;t worked) for them and give insight and answer questions.</span></span><br />\n<br />\n<span style="color:black"><span style="font-family:helvetica\,sans-serif">This is the first of an occasional series of programs that will explore issues around writing and publishing and celebrate the vibrant community of writers in the Shenandoah Valley and throughout Virginia.</span></span></span>
LOCATION:Central Library 174 South Main St. Harrisonburg\, VA 22801
UID:e.2338.6132
SEQUENCE:3
DTSTAMP:20260420T061737Z
URL:https://chamber.hrchamber.org/events/details/what-happens-after-the-end-taking-your-book-from-finished-draft-to-publication-6132
END:VEVENT

END:VCALENDAR
