BEGIN:VCALENDAR
VERSION:2.0
PRODID:-//ChamberMaster//Event Calendar 2.0//EN
METHOD:PUBLISH
X-PUBLISHED-TTL:P3D
REFRESH-INTERVAL:P3D
CALSCALE:GREGORIAN
BEGIN:VEVENT
DTSTART:20190226T000000Z
DTEND:20190226T010000Z
X-MICROSOFT-CDO-ALLDAYEVENT:FALSE
SUMMARY:"We Face the Dawn" - A Talk with Author Margaret Edds
DESCRIPTION:Veteran reporter Margaret Edds will talk about her recent book\, We Face the Dawn: Oliver Hill\, Spottswood Robinson\, and the Legal Team that Dismantled Jim Crow (University of Virginia Press\, 2018)\, which tells the story of the NAACP attorneys who laid the groundwork for the pivotal Brown vs. Board of Education\, and who eventually found themselves in the Supreme Court arguing for equality. Margaret Edds' career spanned thirty-four-years of covering Virginia politics and government\, first as a statehouse reporter and then as an editorial writer for the Norfolk Virginian-Pilot.
X-ALT-DESC;FMTTYPE=text/html:Veteran reporter Margaret Edds will talk about her recent book\,&nbsp\;<em>We Face the Dawn: Oliver Hill\, Spottswood Robinson\, and the Legal Team that Dismantled Jim Crow </em>(University of Virginia Press\, 2018)\, which&nbsp\;tells the story of the NAACP attorneys who laid the groundwork for the pivotal Brown vs. Board of Education\, and who eventually found themselves in the Supreme Court arguing for equality. Margaret Edds&#39\; career spanned thirty-four-years of covering Virginia politics and government\, first as a statehouse reporter and then as an editorial writer for the Norfolk <em>Virginian-Pilot. </em>
LOCATION:Massanutten Regional Library Central Library 174 South Main Street Harrisonburg\, VA 22801
UID:e.2338.6322
SEQUENCE:3
DTSTAMP:20260420T032145Z
URL:https://chamber.hrchamber.org/events/details/we-face-the-dawn-a-talk-with-author-margaret-edds-6322
END:VEVENT

END:VCALENDAR
