BEGIN:VCALENDAR
VERSION:2.0
PRODID:-//ChamberMaster//Event Calendar 2.0//EN
METHOD:PUBLISH
X-PUBLISHED-TTL:P3D
REFRESH-INTERVAL:P3D
CALSCALE:GREGORIAN
BEGIN:VEVENT
DTSTART:20170513T150000Z
DTEND:20170513T180000Z
X-MICROSOFT-CDO-ALLDAYEVENT:FALSE
SUMMARY:Walk for the Animals
DESCRIPTION:Join us on May 13th at the beautiful Melrose Caverns for the 2017 Walk for the Animals to benefit Anicira! A 1 mile walk will be followed by catered lunch\, dog field day games\, inflatable jousting\, music\, and more. Anicira is a nonprofit organization dedicated to serving animals in need.
X-ALT-DESC;FMTTYPE=text/html:Join us on May 13th at the beautiful Melrose Caverns for the 2017 Walk for the Animals to benefit Anicira! A 1 mile walk will be followed by catered lunch\, dog field day games\, inflatable jousting\, music\, and more. Anicira is a nonprofit organization dedicated to serving animals in need.
LOCATION:Melrose Caverns 6639 N Valley Pike Harrisonburg\, VA 22802
UID:e.2338.1730
SEQUENCE:3
DTSTAMP:20260419T191731Z
URL:https://chamber.hrchamber.org/events/details/walk-for-the-animals-1730
END:VEVENT

END:VCALENDAR
