BEGIN:VCALENDAR
VERSION:2.0
PRODID:-//ChamberMaster//Event Calendar 2.0//EN
METHOD:PUBLISH
X-PUBLISHED-TTL:P3D
REFRESH-INTERVAL:P3D
CALSCALE:GREGORIAN
BEGIN:VEVENT
DTSTART:20170710T230500Z
DTEND:20170711T005000Z
X-MICROSOFT-CDO-ALLDAYEVENT:FALSE
SUMMARY:Wakefield
DESCRIPTION:Howard (Bryan Cranston) has a loving wife (Jennifer Garner)\, two daughters\, a prestigious job as a Manhattan lawyer\, and a comfortable home in the suburbs. But inward\, he's suffocating\, eventually snapping and going into hiding in his garage attic\, leaving his family to wonder what happened to him. He observes them from his window - an outsider spying in on his own life - as the days of exile stretch into months. Is it possible to go back to the way things were?
X-ALT-DESC;FMTTYPE=text/html:Howard (Bryan Cranston) has a loving wife (Jennifer Garner)\, two daughters\, a prestigious job as a Manhattan lawyer\, and a comfortable home in the suburbs. But inward\, he&#39\;s suffocating\, eventually snapping and going into hiding in his garage attic\, leaving his family to wonder what happened to him. He observes them from his window - an outsider spying in on his own life - as the days of exile stretch into months. Is it possible to go back to the way things were?
LOCATION:Court Square Theater 41-F Court Square Harrisonburg\, VA 22801
UID:e.2338.3171
SEQUENCE:3
DTSTAMP:20260419T234202Z
URL:https://chamber.hrchamber.org/events/details/wakefield-07-10-2017-3171
END:VEVENT

END:VCALENDAR
