BEGIN:VCALENDAR
VERSION:2.0
PRODID:-//ChamberMaster//Event Calendar 2.0//EN
METHOD:PUBLISH
X-PUBLISHED-TTL:P3D
REFRESH-INTERVAL:P3D
CALSCALE:GREGORIAN
BEGIN:VEVENT
DTSTART:20180321T140000Z
DTEND:20180321T200000Z
X-MICROSOFT-CDO-ALLDAYEVENT:FALSE
SUMMARY:Virginia Food and Beverage Expo
DESCRIPTION:Mark your calendars for Virginia's premier specialty food and beverage trade event of the year! Join trend setting specialty\, gourmet\, grocery and beverage buyers\, celebrity chefs\, restaurateurs and gourmet food writers on March 21\, 2018 in Richmond and discover hundreds of Virginia specialty foods and beverages on display\, including the newest trends in the industry. 175 or more Virginia exhibitors are expected\, and you'll be able to meet one-on-one with company owners. There is no fee for trade buyers or journalists to attend\, and even better: you'll encounter fantastic show floor specials to help improve your bottom line. Don't miss this exciting trade event   it only happens once every other year! Sponsored by the Virginia Department of Agriculture and Consumer Services (VDACS) and VistaGraphics\, Inc.\, the Virginia Food and Beverage Expo connects industry buyers with Virginia specialty food and beverage products.
X-ALT-DESC;FMTTYPE=text/html:<span style="color:black\;"><span style="font-family:arial\,sans-serif\;"><span style="font-size:10.5pt\;">Mark your calendars for Virginia&rsquo\;s premier specialty food and beverage trade event of the year! Join trend setting specialty\, gourmet\, grocery and beverage buyers\, celebrity chefs\, restaurateurs and gourmet food writers on March 21\, 2018 in Richmond and discover hundreds of Virginia specialty foods and beverages on display\, including the newest trends in the industry. 175 or more Virginia exhibitors are expected\, and you&rsquo\;ll be able to meet one-on-one with company owners. There is no fee for trade buyers or journalists to attend\, and even better: you&rsquo\;ll encounter fantastic show floor specials to help improve&nbsp\;</span></span></span><span style="color:black\;"><span style="font-family:arial\,sans-serif\;"><span style="font-size:10.5pt\;">your bottom line. Don&rsquo\;t miss this exciting trade event &ndash\; it only happens once every other year! Sponsored by the Virginia Department of Agriculture and Consumer Services (VDACS) and VistaGraphics\, Inc.\, the Virginia Food and Beverage Expo connects industry buyers with Virginia specialty food and beverage products.</span></span></span>
LOCATION:Greater Richmond Convention Center vaexpo.com
UID:e.2338.3700
SEQUENCE:3
DTSTAMP:20260420T100844Z
URL:https://chamber.hrchamber.org/events/details/virginia-food-and-beverage-expo-3700
END:VEVENT

END:VCALENDAR
