BEGIN:VCALENDAR
VERSION:2.0
PRODID:-//ChamberMaster//Event Calendar 2.0//EN
METHOD:PUBLISH
X-PUBLISHED-TTL:P3D
REFRESH-INTERVAL:P3D
CALSCALE:GREGORIAN
BEGIN:VEVENT
DTSTART:20161106T190000Z
DTEND:20161106T213000Z
X-MICROSOFT-CDO-ALLDAYEVENT:FALSE
SUMMARY:Veterans Parade & Concert
DESCRIPTION:At 2:00pm\, line the streets to honor the veterans who have proudly served our country during war and peacetime. The Veterans Parade will begin at the Rockingham County Administration Center\, 20 East Gay Street\, and will travel South on Main Street to City Hall\, 345 South Main Street.\n\nAt 3:30pm join us at Harrisonburg High School for a short reception for veterans\, families\, and friends\, followed by the 7th Annual Veterans Concert presented by the Harrisonburg High School Music Department. Enjoy patriotic works from the Harrisonburg High School Symphonic Band and Honors Choir.\n\nThe program and reception will be held at Harrisonburg High School located at 1001 Garbers Church Rd\, Harrisonburg\, VA 22801.
X-ALT-DESC;FMTTYPE=text/html:<p>At 2:00pm\, line the streets to honor the veterans who have proudly served our country during war and peacetime. The Veterans Parade will begin at the Rockingham County Administration Center\, 20 East Gay Street\, and will travel South on Main Street to City Hall\, 345 South Main Street.</p>\n\n<p>At 3:30pm join us at Harrisonburg High School for a short reception for veterans\, families\, and friends\, followed by the 7th Annual Veterans Concert presented by the Harrisonburg High School Music Department. Enjoy patriotic works from the Harrisonburg High School Symphonic Band and Honors Choir.</p>\n\n<p>The program and reception will be held at Harrisonburg High School located at 1001 Garbers Church Rd\, Harrisonburg\, VA 22801.</p>\n
LOCATION:Veterans Parade will be held in downtown Harrisonburg beginning at 2:00pm Concert will be held at Harrisonburg High School located at 1001 Garbers Church Rd\, Harrisonburg\, VA 22801.
UID:e.2338.1509
SEQUENCE:3
DTSTAMP:20260421T201547Z
URL:https://chamber.hrchamber.org/events/details/veterans-parade-concert-1509
END:VEVENT

END:VCALENDAR
