BEGIN:VCALENDAR
VERSION:2.0
PRODID:-//ChamberMaster//Event Calendar 2.0//EN
METHOD:PUBLISH
X-PUBLISHED-TTL:P3D
REFRESH-INTERVAL:P3D
CALSCALE:GREGORIAN
BEGIN:VEVENT
DTSTART:20260505T140000Z
DTEND:20260505T160000Z
X-MICROSOFT-CDO-ALLDAYEVENT:FALSE
SUMMARY:Veterans Breakfast
DESCRIPTION:JMU Empowerment3 Center is providing FREE services and programs for veterans of all ages\, family members\, and caregivers. Join us for FREE breakfast the 1st Tuesday of every month to talk about what this program offers!
X-ALT-DESC;FMTTYPE=text/html:JMU Empowerment3 Center is providing FREE services and programs for veterans of all ages\, family members\, and caregivers. Join us for FREE breakfast the 1st Tuesday of every month to talk about what this program offers!
LOCATION:Drifters Cafe 217 S Liberty Street Unit 104B Next to Pale Fire in the Icehouse
UID:e.2338.15813
SEQUENCE:3
DTSTAMP:20260426T004324Z
URL:https://chamber.hrchamber.org/events/details/veterans-breakfast-05-05-2026-15813
END:VEVENT

END:VCALENDAR
