BEGIN:VCALENDAR
VERSION:2.0
PRODID:-//ChamberMaster//Event Calendar 2.0//EN
METHOD:PUBLISH
X-PUBLISHED-TTL:P3D
REFRESH-INTERVAL:P3D
CALSCALE:GREGORIAN
BEGIN:VEVENT
DTSTART:20171112T190000Z
DTEND:20171112T200000Z
X-MICROSOFT-CDO-ALLDAYEVENT:FALSE
SUMMARY:Veteran's Day Parade
DESCRIPTION:At 2:00pm\, line the streets to honor the veterans who have proudly served our country during war and peacetime. The Veterans Parade will begin at the Rockingham County Administration Center\, 20 East Gay Street\, and will travel South on Main Street to City Hall\, 345 South Main Street.\n\nEntry Form for parade entries: http://bit.ly/2zgySDZ
X-ALT-DESC;FMTTYPE=text/html:<p><span style="background-color:rgb(255\, 255\, 255)\; color:rgb(29\, 33\, 41)\; font-family:arial\; font-size:9pt">At 2:00pm\, line the streets to honor the veterans who have proudly served our country during war and peacetime. The Veterans Parade will begin at the Rockingham County Administration Center\, 20 East Gay Street\, and will travel South on Main Street to City Hall\, 345 South Main Street.</span></p>\n\n<p><span style="background-color:rgb(255\, 255\, 255)\; color:rgb(29\, 33\, 41)\; font-family:arial\; font-size:9pt">Entry Form for parade entries: </span><span style="background-color:rgb(255\, 255\, 255)\; color:rgb(17\, 85\, 204)\; font-family:arial\; font-size:9pt\; text-decoration-line:none"><a href="http://bit.ly/2zgySDZ" style="text-decoration-line: none\;">http://bit.ly/2zgySDZ</a></span></p>\n
LOCATION:Rockingham County Administration Center 20 E. Gay St. Harrisonburg\, VA 22801
UID:e.2338.3276
SEQUENCE:3
DTSTAMP:20260420T041510Z
URL:https://chamber.hrchamber.org/events/details/veteran-s-day-parade-3276
END:VEVENT

END:VCALENDAR
