BEGIN:VCALENDAR
VERSION:2.0
PRODID:-//ChamberMaster//Event Calendar 2.0//EN
METHOD:PUBLISH
X-PUBLISHED-TTL:P3D
REFRESH-INTERVAL:P3D
CALSCALE:GREGORIAN
BEGIN:VEVENT
DTSTART:20170216T220000Z
DTEND:20170217T000000Z
X-MICROSOFT-CDO-ALLDAYEVENT:FALSE
SUMMARY:VBS Mortgage BAH Event RSVP
DESCRIPTION:VBS Mortgage Business After Hours
X-ALT-DESC;FMTTYPE=text/html:VBS Mortgage Business After Hours
LOCATION:VBS Mortgage 2040 Deyerle Ave #207\, Harrisonburg\, VA 22801
UID:e.2338.1521
SEQUENCE:3
DTSTAMP:20260419T152845Z
URL:https://chamber.hrchamber.org/events/details/vbs-mortgage-bah-event-rsvp-1521
END:VEVENT

END:VCALENDAR
