BEGIN:VCALENDAR
VERSION:2.0
PRODID:-//ChamberMaster//Event Calendar 2.0//EN
METHOD:PUBLISH
X-PUBLISHED-TTL:P3D
REFRESH-INTERVAL:P3D
CALSCALE:GREGORIAN
BEGIN:VEVENT
DTSTART:20190315T220000Z
DTEND:20190316T000000Z
X-MICROSOFT-CDO-ALLDAYEVENT:FALSE
SUMMARY:ValleyFest19 Kickoff and Giveaway Party
DESCRIPTION:Join us for our 2nd Annual ValleyFest Kickoff Party at Base Camp at Massanutten Resort! This is your chance to buy advance tickets and maybe even win the grand prize package! There will be a tap takeover MillerCoors\, and ticket drawings at every half hour from 6:30p-7:30p followed by a grand prize drawing at 8:00pm. Must be 21 years or older & present to win! The first fifteen people who purchase tickets at Massanutten will receive a ValleyFest Camp Mug!\n\n\n\nGiveaways\n\n6:30pm   A pair of General Admission Tickets to ValleyFest19 (2 tickets)\n\n7:00pm   A pair of General Admission Tickets to ValleyFest19 (2 tickets)\n\n7:30pm   A pair of General Admission Tickets to ValleyFest19 (2 tickets)\n\n8:00pm   Grand Prize is Memorial Day Weekend Package for 2 nights in a 2 bedroom condo at Massanutten and four(4) General Admission tickets for ValleyFest.\n\n\n\nAfter our Kickoff & Giveaway Party\, head inside the Ski Lodge for Massanutten Resort's Live at the Lodge Party | 8 pm - 1:30 am | 21 & up only with valid ID | $7 cover charge | Live music by Relentless\n\n\n\nValleyFest is the Harrisonburg-Rockingham Chamber of Commerce's largest fundraiser. All proceeds benefit the Chamber.
X-ALT-DESC;FMTTYPE=text/html:<div class="_63eu _63ev" style="box-sizing: border-box\; font-size: 14px\; max-height: none\; overflow: visible\; padding: 12px\; overflow-wrap: break-word\; font-family: Helvetica\, Arial\, sans-serif\; color: rgb(29\, 33\, 41)\;">\n<div class="_63ew" data-testid="event-permalink-details" style="white-space: pre-wrap\; font-family: inherit\;"><span style="font-family: inherit\;">Join us for our 2nd Annual ValleyFest Kickoff Party at Base Camp at Massanutten Resort! This is your chance to buy advance tickets and maybe even win the grand prize package! There will be a tap takeover MillerCoors\, and ticket drawings at every half hour from 6:30p-7:30p followed by a grand prize drawing at 8:00pm. Must be 21 years or older &amp\; present to win! The first fifteen people who purchase tickets at Massanutten will receive a ValleyFest Camp Mug!<br />\n<br />\n<strong>Giveaways</strong><br />\n<strong>6:30pm</strong> &ndash\; A pair of General Admission Tickets to ValleyFest19 (2 tickets)<br />\n<strong>7:00pm</strong> &ndash\; A pair of General Admission Tickets to ValleyFest19 (2 tickets)<br />\n<strong>7:30pm</strong> &ndash\; A pair of General Admission Tickets to ValleyFest19 (2 tickets)<br />\n<strong>8:00pm</strong> &ndash\; <strong>Grand Prize is Memorial Day Weekend Package for 2 nights in a 2 bedroom condo at Massanutten and four(4) General Admission tickets for ValleyFest.</strong><br />\n<br />\nAfter our Kickoff &amp\; Giveaway Party\, head inside the Ski Lodge for Massanutten Resort&#39\;s Live at the Lodge Party | 8 pm - 1:30 am | 21 &amp\; up only with valid ID | $7 cover charge | Live music by Relentless<br />\n<br />\n<strong>ValleyFest is the Harrisonburg-Rockingham Chamber of Commerce&#39\;s largest fundraiser. All proceeds benefit the Chamber</strong>.</span></div>\n\n<div>&nbsp\;</div>\n</div>\n
LOCATION:Base Camp at Massanutten Resort.
UID:e.2338.6319
SEQUENCE:3
DTSTAMP:20260420T013904Z
URL:https://chamber.hrchamber.org/events/details/valleyfest19-kickoff-and-giveaway-party-6319
END:VEVENT

END:VCALENDAR
