BEGIN:VCALENDAR
VERSION:2.0
PRODID:-//ChamberMaster//Event Calendar 2.0//EN
METHOD:PUBLISH
X-PUBLISHED-TTL:P3D
REFRESH-INTERVAL:P3D
CALSCALE:GREGORIAN
BEGIN:VEVENT
DTSTART:20190525T160000Z
DTEND:20190525T230000Z
X-MICROSOFT-CDO-ALLDAYEVENT:FALSE
SUMMARY:ValleyFest19 Beer and Wine Festival
DESCRIPTION:ValleyFest\, held on Memorial Day weekend\, is the kick-off to summer! More than 4\,000 people celebrate the holiday weekend at the festival\, dancing to live music\, food\, shopping for unique and handmade crafts\, and enjoying quality wines\, ciders\, and microbrews of the Shenandoah Valley\, Virginia and beyond. Many varieties of beer\, cider wine will be represented\, from stouts to sours\, dry to sweet and pinot to malbecs. It's all of the beer\, cider\, and wine you could possibly enjoy in one place!\n\n\n\n\n\n All proceeds benefit the Harrisonburg-Rockingham Chamber of Commerce.
X-ALT-DESC;FMTTYPE=text/html:<p class="font_5" style="line-height: 1em\;"><br />\n<br />\n<span style="color:#7030A0\;"><span style="font-family:arial\,sans-serif\;"><span style="font-size:16.0pt\;"><span style="font-size:18px\;">ValleyFest\, held on Memorial Day weekend\, is the kick-off to summer! More than 4\,000 people celebrate the holiday weekend at the festival\, dancing to live music\,&nbsp\;food\, shopping for unique and handmade crafts\, and enjoying quality wines\, ciders\, and microbrews of the Shenandoah Valley\, Virginia and beyond. Many varieties of beer\, cider&nbsp\;wine will be represented\, from stouts to sours\, dry to sweet and pinot to malbecs. It&#39\;s all of the beer\, cider\, and wine you could possibly enjoy in one place!</span></span></span></span><br />\n<br />\n<br />\n<span style="font-size:18px\;"><em><span style="letter-spacing:-.6pt\;"><span style="color:#333333\;"><span style="font-family:arial\,sans-serif\;">&#8203\;</span></span><span style="color:red\;"><span style="font-family:arial\,sans-serif\;">All proceeds benefit the Harrisonburg-Rockingham Chamber of Commerce.</span></span></span></em></span></p>\n
LOCATION:Massanutten Resort 1822 Resort Drive Massanutten\, VA 22840
UID:e.2338.5914
SEQUENCE:3
DTSTAMP:20260419T225101Z
URL:https://chamber.hrchamber.org/events/details/valleyfest19-beer-and-wine-festival-5914
END:VEVENT

END:VCALENDAR
