BEGIN:VCALENDAR
VERSION:2.0
PRODID:-//ChamberMaster//Event Calendar 2.0//EN
METHOD:PUBLISH
X-PUBLISHED-TTL:P3D
REFRESH-INTERVAL:P3D
CALSCALE:GREGORIAN
BEGIN:VEVENT
DTSTART:20171006T220000Z
DTEND:20171007T010000Z
X-MICROSOFT-CDO-ALLDAYEVENT:FALSE
SUMMARY:Valley Vines Twilight 5K
DESCRIPTION:The Valley Vines Twilight 5K is the best new winery running event in the Shenandoah Valley! You'll run through the vines at CrossKeys Vineyard on a crisp fall evening\, then share a bottle of wine with family and friends while listening to live music. Whoa\, that sounds amazing! All skill levels welcome.\n\n\n\nTwilight 5K starts at 6pm on Friday\, October 6th. The race is chip timed.\n\n\n\nPicnic food will be available for purchase at the winery following the run. Twilight 5K cost includes a t-shirt (if registered by September 26th at 12pm) and one glass of wine for every registrant over 21 yrs. of age.\n\n\n\nThe Harrisonburg-Rockingham Chamber of Commerce partners with VA Momentum for this event. Visit their website for more information and to register: https://www.vamomentum.com/valley-vines-twilight-5k.html.\n\n\n\nInterested in sponsoring? Please review the sponsor packet by clicking here or email Cari Orebaugh at cari@hrchamber.org for more information.
X-ALT-DESC;FMTTYPE=text/html:The Valley Vines Twilight 5K is the best new winery running event in the Shenandoah Valley! You&#39\;ll run through the vines at CrossKeys Vineyard on a crisp fall evening\, then share a bottle of wine with family and friends while listening to live music. Whoa\, that sounds amazing! All skill levels welcome.<br />\n<br />\n<strong>Twilight 5K starts at 6pm on Friday\, October 6th. The race is chip timed.</strong><br />\n<br />\nPicnic food will be available for purchase at the winery following the run. Twilight 5K cost includes a t-shirt (if registered by September 26th at 12pm) and one glass of wine for every registrant over 21 yrs. of age.<br />\n<br />\nThe Harrisonburg-Rockingham Chamber of Commerce partners with VA Momentum for this event. Visit their website for more information and to register: <a href="https://www.vamomentum.com/valley-vines-twilight-5k.html" target="_blank">https://www.vamomentum.com/valley-vines-twilight-5k.html</a>.<br />\n<br />\nInterested in sponsoring? Please review the sponsor packet by <a href="https://chambermaster.blob.core.windows.net/userfiles/UserFiles/chambers/2338/File/ValleyVinesTwilight5KSponsorshipLevels.pdf" target="_blank">clicking here</a> or email Cari Orebaugh at cari@hrchamber.org for more information.<br />\n&nbsp\;
LOCATION:CrossKeys Vineyards
UID:e.2338.3228
SEQUENCE:3
DTSTAMP:20260420T024159Z
URL:https://chamber.hrchamber.org/events/details/valley-vines-twilight-5k-3228
END:VEVENT

END:VCALENDAR
