BEGIN:VCALENDAR
VERSION:2.0
PRODID:-//ChamberMaster//Event Calendar 2.0//EN
METHOD:PUBLISH
X-PUBLISHED-TTL:P3D
REFRESH-INTERVAL:P3D
CALSCALE:GREGORIAN
BEGIN:VEVENT
DTSTART:20170302T220000Z
DTEND:20170303T000000Z
X-MICROSOFT-CDO-ALLDAYEVENT:FALSE
SUMMARY:Valley Mall BAH Event RSVP
DESCRIPTION:Valley Mall Business After Hours
X-ALT-DESC;FMTTYPE=text/html:Valley Mall Business After Hours
LOCATION:Valley Mall 1925 E Market St\, Harrisonburg\, VA 22801
UID:e.2338.1522
SEQUENCE:3
DTSTAMP:20260421T134623Z
URL:https://chamber.hrchamber.org/events/details/valley-mall-bah-event-rsvp-1522
END:VEVENT

END:VCALENDAR
