BEGIN:VCALENDAR
VERSION:2.0
PRODID:-//ChamberMaster//Event Calendar 2.0//EN
METHOD:PUBLISH
X-PUBLISHED-TTL:P3D
REFRESH-INTERVAL:P3D
CALSCALE:GREGORIAN
BEGIN:VEVENT
DTSTART:20160528T150000Z
DTEND:20160528T230000Z
X-MICROSOFT-CDO-ALLDAYEVENT:FALSE
SUMMARY:Valley Fest 2016
DESCRIPTION:Kick off the start of summer at the  16th Annual ValleyFest Beer & Wine Festival!\n\nSpend your Memorial Day weekend sampling regional wines\, craft & microbrews\,\n\nlistening to  live music\, enjoying delicious food and browsing the wares of quality crafters and artisans.
X-ALT-DESC;FMTTYPE=text/html:<h6 class="font_6" style="margin: 0px\; padding: 0px\; border: 0px\; outline: 0px\; vertical-align: baseline\; font-stretch: normal\; font-size: 17px\; line-height: 1.4em\; font-family: Caudex\, serif\; color: rgb(149\, 187\, 194)\; background: transparent\;"><span style="font-size:14px\;"><span style="color: rgb(0\, 0\, 205)\;"><span style="margin: 0px\; padding: 0px\; border: 0px none\; outline: 0px none\; vertical-align: baseline\; line-height: 1.4em\; background: transparent none repeat scroll 0% 0%\;">Kick off the start of summer at the&nbsp\;<span style="margin: 0px\; padding: 0px\; border: 0px none\; outline: 0px none\; vertical-align: baseline\; font-family: &quot\;EB Garamond&quot\;\; background: transparent none repeat scroll 0% 0%\;">&#8203\;</span>16th Annual ValleyFest Beer &amp\; Wine Festival!</span></span></span></h6>\n\n<h6 class="font_6" style="margin: 0px\; padding: 0px\; border: 0px\; outline: 0px\; vertical-align: baseline\; font-stretch: normal\; font-size: 17px\; line-height: 1.4em\; font-family: Caudex\, serif\; color: rgb(149\, 187\, 194)\; background: transparent\;"><span style="font-size:14px\;"><span style="color: rgb(0\, 0\, 205)\;"><span style="margin: 0px\; padding: 0px\; border: 0px none\; outline: 0px none\; vertical-align: baseline\; line-height: 1.4em\; background: transparent none repeat scroll 0% 0%\;">Spend your Memorial Day weekend sampling&nbsp\;<span style="margin: 0px\; padding: 0px\; border: 0px none\; outline: 0px none\; vertical-align: baseline\; font-family: Caudex\; background: transparent none repeat scroll 0% 0%\;">regional&nbsp\;</span>wines\, craft &amp\;<span style="margin: 0px\; padding: 0px\; border: 0px none\; outline: 0px none\; vertical-align: baseline\; font-family: Caudex\; background: transparent none repeat scroll 0% 0%\;">&nbsp\;</span>microbrews<span style="margin: 0px\; padding: 0px\; border: 0px none\; outline: 0px none\; vertical-align: baseline\; font-family: Caudex\; background: transparent none repeat scroll 0% 0%\;">\,</span></span></span></span></h6>\n\n<h6 class="font_6" style="margin: 0px\; padding: 0px\; border: 0px\; outline: 0px\; vertical-align: baseline\; font-stretch: normal\; font-size: 17px\; line-height: 1.4em\; font-family: Caudex\, serif\; color: rgb(149\, 187\, 194)\; background: transparent\;"><span style="font-size:14px\;"><span style="color: rgb(0\, 0\, 205)\;"><span style="margin: 0px\; padding: 0px\; border: 0px none\; outline: 0px none\; vertical-align: baseline\; line-height: 1.4em\; background: transparent none repeat scroll 0% 0%\;">listening to &#8203\;<span style="margin: 0px\; padding: 0px\; border: 0px none\; outline: 0px none\; vertical-align: baseline\; font-family: &quot\;EB Garamond&quot\;\; background: transparent none repeat scroll 0% 0%\;">live music</span>\, enjoying delicious&nbsp\;<span style="margin: 0px\; padding: 0px\; border: 0px none\; outline: 0px none\; vertical-align: baseline\; font-family: &quot\;EB Garamond&quot\;\; background: transparent none repeat scroll 0% 0%\;">food</span>&nbsp\;and browsing the wares of&nbsp\;<span style="margin: 0px\; padding: 0px\; border: 0px none\; outline: 0px none\; vertical-align: baseline\; font-family: &quot\;EB Garamond&quot\;\; background: transparent none repeat scroll 0% 0%\;">quality crafters and artisans.</span></span></span></span></h6>\n
LOCATION:ValleyFest Beer & Wine Festival is held on the beautiful slopes of Massanutten Resort\, located at 4614 Massanutten Drive\, McGaheysville\, VA
UID:e.2338.5
SEQUENCE:3
DTSTAMP:20260422T044945Z
URL:https://chamber.hrchamber.org/events/details/valley-fest-2016-05-28-2016-5
END:VEVENT

END:VCALENDAR
