BEGIN:VCALENDAR
VERSION:2.0
PRODID:-//ChamberMaster//Event Calendar 2.0//EN
METHOD:PUBLISH
X-PUBLISHED-TTL:P3D
REFRESH-INTERVAL:P3D
CALSCALE:GREGORIAN
BEGIN:VEVENT
DTSTART:20170424T210000Z
DTEND:20170424T230000Z
X-MICROSOFT-CDO-ALLDAYEVENT:FALSE
SUMMARY:Valley Cigar Club - Come In Get Acquainted Regularly
DESCRIPTION:Join a great group of folks at Capitale Ale House in Harrisonburg for networking and fellowship. WHSV air personalities willb be joining the CIGAR Club on Monday.
X-ALT-DESC;FMTTYPE=text/html:Join a great group of folks at Capitale Ale House in Harrisonburg for networking and fellowship. WHSV air personalities willb be joining the CIGAR Club on Monday.<br />\n&nbsp\;
LOCATION:Capital Ale House - 41 Court Square\, Harrisonburg\, VA 22801
UID:e.2338.2675
SEQUENCE:3
DTSTAMP:20260421T121059Z
URL:https://chamber.hrchamber.org/events/details/valley-cigar-club-come-in-get-acquainted-regularly-2675
END:VEVENT

END:VCALENDAR
