BEGIN:VCALENDAR
VERSION:2.0
PRODID:-//ChamberMaster//Event Calendar 2.0//EN
METHOD:PUBLISH
X-PUBLISHED-TTL:P3D
REFRESH-INTERVAL:P3D
CALSCALE:GREGORIAN
BEGIN:VEVENT
DTSTART;VALUE=DATE:20190415
DTEND;VALUE=DATE:20190416
TRANSP:TRANSPARENT
X-MICROSOFT-CDO-ALLDAYEVENT:TRUE
SUMMARY:Valley Business Give Back - Open Registration
DESCRIPTION:Valley Businesses Give Back\n\n\n \n div class="fusion-column-wrapper" style="background-position-x: left\; background-position-y: top\; background-repeat: no-repeat\; background-size: cover\; bottom: 0px\; box-sizing: border-box\; content: &quot\;&quot\;\; left: 0px\; min-height: 1px\; position: absolute\; right: 0px\; top: 0px\; z-index: -1\;" "="" \n\n\n\n\n\nThe 2019 VBGB Food and Fund Drive will take place June 3 to June 21!\n\nRegister here.\n\n\n\nValley Businesses Give Back (VBGB) is an annual food and fund drive led by local businesses and organizations in the Shenandoah Valley to raise money and collect non-perishable food to help stock the shelves of the Blue Ridge Area Food Bank during the summer months. In 2018\, 35 businesses donated 9\,166 pounds of food and $6\,611\, enough to help us provide 34\,083 meals to neighbors in the Shenandoah Valley  twice as much as our projected goal!  \n\nFirst launched in 2011\, Valley Businesses Give Back has collectively raised more than $35\,000 and brought in more than 63\,000 pounds of food to benefit the Blue Ridge Area Food Bank.  All told\, we've been able to provide 193\,000 meals to Shenandoah Valley families. We are grateful for the continued partnership and support of this effort from Hershey Chocolate of Virginia as well as the Greater Augusta Regional Chamber of Commerce\, Chamber of Commerce Serving Lexington\, Buena Vista and Rockbridge County\, and Harrisonburg-Rockingham Chamber of Commerce.
X-ALT-DESC;FMTTYPE=text/html:<div class="fusion-text" style="box-sizing: border-box\; color: rgb(0\, 0\, 0)\; font-family: Verdana\, Geneva\, sans-serif\; font-size: 14px\; font-variant-numeric: normal\; font-variant-east-asian: normal\;">\n<div class="fusion-layout-column fusion_builder_column fusion_builder_column_1_1  fusion-one-full fusion-column-first fusion-column-last fusion-column-no-min-height 1_1" style="box-sizing: border-box\; clear: both\; color: rgb(0\, 0\, 0)\; float: none\; font-family: Verdana\, Geneva\, sans-serif\; font-size: 14px\; font-variant-numeric: normal\; font-variant-east-asian: normal\; margin: 0px\; position: relative\;">\n<div class="fusion-column-wrapper" data-bg-url="" style="box-sizing: border-box\; min-height: 1px\; padding-bottom: 0px\; padding-left: 0px\; padding-right: 0px\; padding-top: 0px\;">\n<div class="fusion-title title fusion-sep-none fusion-title-size-one fusion-border-below-title" style="align-items: center\; box-sizing: border-box\; flex-wrap: nowrap\; margin: 0px 0px 31px\; overflow: hidden\; -webkit-box-align: center\;">\n<div class="fusion-layout-column fusion_builder_column fusion_builder_column_1_1  fusion-one-full fusion-column-first fusion-column-last fusion-column-no-min-height 1_1" style="box-sizing: border-box\; clear: both\; color: rgb(0\, 0\, 0)\; float: none\; font-family: Verdana\, Geneva\, sans-serif\; font-size: 14px\; font-variant-numeric: normal\; font-variant-east-asian: normal\; margin: 0px\; position: relative\;">\n<div class="fusion-column-wrapper" data-bg-url="" style="box-sizing: border-box\; min-height: 1px\; padding-bottom: 0px\; padding-left: 0px\; padding-right: 0px\; padding-top: 0px\;">\n<div class="fusion-title title fusion-sep-none fusion-title-size-one fusion-border-below-title" style="align-items: center\; box-sizing: border-box\; flex-wrap: nowrap\; margin: 0px 0px 31px\; overflow: hidden\; -webkit-box-align: center\;">\n<h1 class="title-heading-left" style="box-sizing: border-box\; color: rgb(254\, 123\, 25)\; flex-grow: 0\; font-size: 28px\; letter-spacing: 0px\; line-height: 1.71\; margin: 0px\; padding: 0px\; -webkit-box-flex: 0\;">Valley Businesses Give Back</h1>\n</div>\n\n<div class="fusion-clearfix" style="box-sizing: border-box\; clear: both\; zoom: 1\;">&nbsp\;</div>\n&lt\;div class=&quot\;fusion-column-wrapper&quot\; style=&quot\;background-position-x: left\; background-position-y: top\; background-repeat: no-repeat\; background-size: cover\; bottom: 0px\; box-sizing: border-box\; content: &amp\;quot\;&amp\;quot\;\; left: 0px\; min-height: 1px\; position: absolute\; right: 0px\; top: 0px\; z-index: -1\;&quot\; &quot\;=&quot\;&quot\;&gt\;</div>\n</div>\n\n<div class="fusion-layout-column fusion_builder_column fusion_builder_column_3_5  fusion-three-fifth fusion-column-first 3_5" style="box-sizing: border-box\; clear: left\; color: rgb(0\, 0\, 0)\; float: left\; font-family: Verdana\, Geneva\, sans-serif\; font-size: 14px\; font-variant-numeric: normal\; font-variant-east-asian: normal\; margin-bottom: 20px\; margin-right: 4%\; margin-top: 0px\; position: relative\; width: 58.4%\;">\n<div class="fusion-column-wrapper" data-bg-url="" style="box-sizing: border-box\; min-height: 1px\; padding-bottom: 0px\; padding-left: 0px\; padding-right: 0px\; padding-top: 0px\;">\n<div class="fusion-text" style="box-sizing: border-box\;">\n<h4 style="box-sizing: border-box\; color: rgb(51\, 51\, 51)\; font-size: 15px\; letter-spacing: 0px\; line-height: 1.33\; margin-bottom: 1.33em\; margin-top: 1.33em\;"><span style="box-sizing: border-box\; font-weight: 700\;"><span style="box-sizing: border-box\; color: rgb(0\, 0\, 0)\;">The 2019 VBGB Food and Fund Drive will take place</span> June 3 to June 21<span style="box-sizing: border-box\; color: rgb(0\, 0\, 0)\;">!</span></span></h4>\n\n<h4 style="box-sizing: border-box\; color: rgb(51\, 51\, 51)\; font-size: 15px\; letter-spacing: 0px\; line-height: 1.33\; margin-bottom: 1.33em\; margin-top: 1.33em\;"><span style="box-sizing: border-box\; font-weight: 700\;"><span style="box-sizing: border-box\; color: rgb(0\, 0\, 0)\;"><span style="box-sizing: border-box\; color: rgb(255\, 102\, 0)\;">Register <a href="https://www.brafb.org/vbgb-registration/" style="box-sizing: border-box\; color: rgb(254\, 123\, 25)\; text-decoration-line: none\; transition-duration: 0.2s\; transition-property: color\, background-color\, border-color\; transition-timing-function: linear\;"><span style="box-sizing: border-box\; text-decoration-line: underline\;">here</span></a>.</span></span></span></h4>\n</div>\n\n<div class="fusion-text" style="box-sizing: border-box\;">\n<p style="box-sizing: border-box\; margin: 0px 0px 20px\;">Valley Businesses Give Back (VBGB) is an annual food and fund drive&nbsp\;led by local businesses and organizations in the Shenandoah Valley to raise money and collect non-perishable food to help stock the shelves of the Blue Ridge Area Food Bank during the summer months. <span style="box-sizing: border-box\; font-weight: 700\;">In 2018\, 35&nbsp\;businesses donated 9\,166 pounds of food and $6\,611\, enough to help us provide <span style="box-sizing: border-box\; text-decoration-line: underline\;">34\,083 meals</span> to neighbors in the Shenandoah Valley &mdash\;twice as much as our projected goal! &nbsp\;</span></p>\n\n<p style="box-sizing: border-box\; margin-bottom: 20px\; margin-left: 0px\; margin-right: 0px\; margin-top: 0px\;">First launched in 2011\,<em style="box-sizing: border-box\;"> Valley Businesses Give Back </em>has collectively raised more than $35\,000 and brought in more than 63\,000 pounds of food to benefit the Blue Ridge Area Food Bank.&nbsp\; All told\, we&rsquo\;ve been able to provide 193\,000 meals to Shenandoah Valley families. We are grateful for the continued partnership and support of this effort from Hershey Chocolate of Virginia as well as the Greater Augusta Regional Chamber of Commerce\, Chamber of Commerce Serving Lexington\, Buena Vista and Rockbridge County\, and Harrisonburg-Rockingham Chamber of Commerce.</p>\n</div>\n</div>\n</div>\n</div>\n</div>\n</div>\n</div>\n
LOCATION:
UID:e.2338.6558
SEQUENCE:3
DTSTAMP:20260420T001132Z
URL:https://chamber.hrchamber.org/events/details/valley-business-give-back-open-registration-6558
END:VEVENT

END:VCALENDAR
