BEGIN:VCALENDAR
VERSION:2.0
PRODID:-//ChamberMaster//Event Calendar 2.0//EN
METHOD:PUBLISH
X-PUBLISHED-TTL:P3D
REFRESH-INTERVAL:P3D
CALSCALE:GREGORIAN
BEGIN:VEVENT
DTSTART;VALUE=DATE:20190603
DTEND;VALUE=DATE:20190622
TRANSP:TRANSPARENT
X-MICROSOFT-CDO-ALLDAYEVENT:TRUE
SUMMARY:Valley Business Give Back Campaign
DESCRIPTION:Harrisonburg-Rockingham Chamber of Commerce is participating again in the Valley Business Give Back Campaign in partnership with The Blue Ridge Area Food Bank.  HRCC will be collecting non-perishables items and monetary donations at our office form June 3-21\, 2019.\n\n\n\nThe Blue Ridge Area Food Bank (BRAFB) is your local food bank. Through the acquisition and distribution of food\, education regarding nutrition and other programs\, and advocacy on behalf of the 1 in 12 people who are food insecure in our service area\, the Blue Ridge Area Food Bank is working to end hunger in central and western Virginia.   All food collected during the VBGB Food Drive benefits the men\, women\, and children served by 71 partner pantries\, soup kitchens\, and shelters in the central Shenandoah Valley area\, which includes these counties and cities: Buena Vista\, Harrisonburg\, Lexington\, Staunton\, Waynesboro\, Augusta\, Bath\, Highland\, Rockbridge and Rockingham.
X-ALT-DESC;FMTTYPE=text/html:Harrisonburg-Rockingham Chamber of Commerce is participating again in the Valley Business Give Back Campaign in partnership with The Blue Ridge Area Food Bank.&nbsp\; HRCC will be collecting non-perishables items and monetary donations at our office form June 3-21\, 2019.<br />\n<br />\nThe Blue Ridge Area Food Bank (BRAFB) is your local food bank. Through the acquisition and distribution of food\, education regarding nutrition and other programs\, and advocacy on behalf of the 1 in 12 people who are food insecure in our service area\, the Blue Ridge Area Food Bank is working to end hunger in central and western Virginia.&nbsp\; &nbsp\;All food collected during the VBGB Food Drive benefits the men\, women\, and children served by 71 partner pantries\, soup kitchens\, and shelters in the central Shenandoah Valley area\, which includes these counties and cities: Buena Vista\, Harrisonburg\, Lexington\, Staunton\, Waynesboro\, Augusta\, Bath\, Highland\, Rockbridge and Rockingham.&nbsp\;
LOCATION:800 Country Club Road Harrisonburg VA 22802
UID:e.2338.6623
SEQUENCE:3
DTSTAMP:20260419T211309Z
URL:https://chamber.hrchamber.org/events/details/valley-business-give-back-campaign-6623
END:VEVENT

END:VCALENDAR
