BEGIN:VCALENDAR
VERSION:2.0
PRODID:-//ChamberMaster//Event Calendar 2.0//EN
METHOD:PUBLISH
X-PUBLISHED-TTL:P3D
REFRESH-INTERVAL:P3D
CALSCALE:GREGORIAN
BEGIN:VEVENT
DTSTART:20170704T183000Z
DTEND:20170704T200500Z
X-MICROSOFT-CDO-ALLDAYEVENT:FALSE
SUMMARY:Valley 4th Feature: Shrek
DESCRIPTION:Once upon a time in a far away swamp\, there lived an ogre named Shrek (Mike Myers) whose precious solitude was suddenly shattered by an invasion of annoying fairy tale characters. They were all banished from their kingdom by the evil Lord Farquaad (John Lithgow). Determined to save their home -- not to mention his -- Shrek cuts a deal with Farquaad and sets out to rescue Princess Fiona (Cameron Diaz) to be Farquaad's bride. Rescuing the Princess may be small compared to her deep\, dark secret.
X-ALT-DESC;FMTTYPE=text/html:Once upon a time in a far away swamp\, there lived an ogre named Shrek (Mike Myers) whose precious solitude was suddenly shattered by an invasion of annoying fairy tale characters. They were all banished from their kingdom by the evil Lord Farquaad (John Lithgow). Determined to save their home -- not to mention his -- Shrek cuts a deal with Farquaad and sets out to rescue Princess Fiona (Cameron Diaz) to be Farquaad&#39\;s bride. Rescuing the Princess may be small compared to her deep\, dark secret.
LOCATION:Court Square Theater 41-F Court Square Harrisonburg\, VA 22801
UID:e.2338.3119
SEQUENCE:3
DTSTAMP:20260419T221311Z
URL:https://chamber.hrchamber.org/events/details/valley-4th-feature-shrek-07-04-2017-3119
END:VEVENT

END:VCALENDAR
