BEGIN:VCALENDAR
VERSION:2.0
PRODID:-//ChamberMaster//Event Calendar 2.0//EN
METHOD:PUBLISH
X-PUBLISHED-TTL:P3D
REFRESH-INTERVAL:P3D
CALSCALE:GREGORIAN
BEGIN:VEVENT
DTSTART:20170618T190000Z
DTEND:20170618T210000Z
X-MICROSOFT-CDO-ALLDAYEVENT:FALSE
SUMMARY:V.O.I.C.E.
DESCRIPTION:In 2008\, founder James Kiser called upon friends to create a concert with the intent of raising money for a local charity. The debut "cast" of 17 singers performed in May of that year and raised $1\,400 for the American Cancer Society   as they say\, "the rest is history."
X-ALT-DESC;FMTTYPE=text/html:In 2008\, founder James Kiser called upon friends to create a concert with the intent of raising money for a local charity. The debut &ldquo\;cast&rdquo\; of 17 singers performed in May of that year and raised $1\,400 for the American Cancer Society &ndash\; as they say\, &ldquo\;the rest is history.&rdquo\;
LOCATION:Court Square Theater 41-F Court Square Harrisonburg\, VA 22801
UID:e.2338.3011
SEQUENCE:3
DTSTAMP:20260419T204032Z
URL:https://chamber.hrchamber.org/events/details/v-o-i-c-e-06-18-2017-3011
END:VEVENT

END:VCALENDAR
