BEGIN:VCALENDAR
VERSION:2.0
PRODID:-//ChamberMaster//Event Calendar 2.0//EN
METHOD:PUBLISH
X-PUBLISHED-TTL:P3D
REFRESH-INTERVAL:P3D
CALSCALE:GREGORIAN
BEGIN:VEVENT
DTSTART:20171021T140000Z
DTEND:20171021T190000Z
X-MICROSOFT-CDO-ALLDAYEVENT:FALSE
SUMMARY:UPS Shred Day
DESCRIPTION:Bring all of your shredding to  The UPS Store on East Market Street and get the first 10 Ibs. free of charge! They have partnered up with the First Bank & Trust as well as the Chick-fil-A to make this event a huge success. First 100 people will get a treat from your local Chick-fil-A!\n\nWhen: Saturday\, October 21\, 10 a.m. - 3 p.m.\n\nWhere: The UPS Store \n\n1866 East Market Street\n\nHarrisonburg\, VA 22801\n\n(Behind Applebee's\; Across from the Valley Mall)\n\n(*note location correction from 10/13 e-newsletter)
X-ALT-DESC;FMTTYPE=text/html:<span style="color:black\;"><span style="font-family:trebuchet ms\,sans-serif\;"><span style="font-size:10.0pt\;">Bring all of your shredding to &nbsp\;<a alt="http://chamber.hrchamber.org/list/member/the-ups-store-6370" href="http://r20.rs6.net/tn.jsp?f=001nqsUgdw3eulwnZxZS6Rbp3OMsmrhSVUXtOAR-KoB0v045vNp2SUQqOPimRvieN6ziNjVX0WRmUXCnmve1WAXY0XV7OM0LkIlfVY-vviCtyYrCta7aOhi4hxS5tqD6Gd9dTYFfhgr6PQyNlDj42qQ8B1hQNf0hghb4SPNXi5xsDrO6Dz-aKILGctKdvmK-EpCkSathDmYqPKmbPRcZVKuOsBxRjvoPgG1&amp\;c=aM5wI32llD8emN6U5CXPv1LD6VlJVa3sxLO2L53a8xTPBIpyD861hw==&amp\;ch=0H23DAYVykBrWNSIkBCeIP8f_kX5wkEbnc4tR1BBxV7lMvLuphvrBw==" linktype="1" shape="rect" target="_blank" track="on">The UPS Store</a> on East Market Street and get the first 10 Ibs. free of charge! They have partnered up with the <a alt="http://chamber.hrchamber.org/list/member/first-bank-trust-company-harrisonburg-1521" href="http://r20.rs6.net/tn.jsp?f=001nqsUgdw3eulwnZxZS6Rbp3OMsmrhSVUXtOAR-KoB0v045vNp2SUQqJiVE9urQC8CSWCimD8_2eQO2AeeU9XyRTKhmPC9EZ8_I8kLH7xtxw4rkPBoJ1zl8P-O7aDtKQK0ifDl3Z9xpm_kNnhdIlljZcxHtUwzbyp7jBBbIdBOWJD3GCZ7jyogrv2Tu55U1nBK9RSiFObV0v_1SjnFqUY5kiTUplCR1pN-D2Im5VKtbh3Xcfqu-lbpr8Jibx5WkusO&amp\;c=aM5wI32llD8emN6U5CXPv1LD6VlJVa3sxLO2L53a8xTPBIpyD861hw==&amp\;ch=0H23DAYVykBrWNSIkBCeIP8f_kX5wkEbnc4tR1BBxV7lMvLuphvrBw==" linktype="1" shape="rect" target="_blank" track="on">First Bank &amp\; Trust</a> as well as the <a alt="http://chamber.hrchamber.org/list/member/chick-fil-a-harrisonburg-3153" href="http://r20.rs6.net/tn.jsp?f=001nqsUgdw3eulwnZxZS6Rbp3OMsmrhSVUXtOAR-KoB0v045vNp2SUQqJiVE9urQC8CmVzPTq5wbBzY7ewAwIDOEofZZ0INcWnHrxA5yhv4EHHDuF308Opj42MrdmCVEj-A0qoGyhaP7TxTgN1RReMC-s5HFnm5tieQrySx3DT0XRyFJYQyd5U-Z_41WGj9kNxFouiboHQRSkwBh6qOg2we9-1Oc6SH5tVfi1FFIeQn9KNA_Yx8QVPMIg==&amp\;c=aM5wI32llD8emN6U5CXPv1LD6VlJVa3sxLO2L53a8xTPBIpyD861hw==&amp\;ch=0H23DAYVykBrWNSIkBCeIP8f_kX5wkEbnc4tR1BBxV7lMvLuphvrBw==" linktype="1" shape="rect" target="_blank" track="on">Chick-fil-A</a> to make this event a huge success.&nbsp\;First 100 people will get a treat from your local Chick-fil-A!</span></span></span><br />\n<span style="color:black\;"><span style="font-family:trebuchet ms\,sans-serif\;"><span style="font-size:10.0pt\;">When: Saturday\, October 21\, 10 a.m. - 3 p.m.</span></span></span><br />\n<span style="color:black\;"><span style="font-family:trebuchet ms\,sans-serif\;"><span style="font-size:10.0pt\;">Where: The UPS Store&nbsp\;</span></span></span><br />\n<span style="color:black\;"><span style="font-family:trebuchet ms\,sans-serif\;"><span style="font-size:10.0pt\;">1866 East Market Street</span></span></span><br />\n<span style="color:black\;"><span style="font-family:trebuchet ms\,sans-serif\;"><span style="font-size:10.0pt\;">Harrisonburg\, VA 22801</span></span></span><br />\n<span style="color:black\;"><span style="font-family:trebuchet ms\,sans-serif\;"><span style="font-size:10.0pt\;">(Behind Applebee&#39\;s\; Across from the Valley Mall)</span></span></span><br />\n<span style="color:black\;"><span style="font-family:trebuchet ms\,sans-serif\;"><span style="font-size:10.0pt\;">(*note location correction from 10/13 e-newsletter)&nbsp\;&nbsp\;</span></span></span>
LOCATION:
UID:e.2338.3286
SEQUENCE:3
DTSTAMP:20260420T024222Z
URL:https://chamber.hrchamber.org/events/details/ups-shred-day-3286
END:VEVENT

END:VCALENDAR
