BEGIN:VCALENDAR
VERSION:2.0
PRODID:-//ChamberMaster//Event Calendar 2.0//EN
METHOD:PUBLISH
X-PUBLISHED-TTL:P3D
REFRESH-INTERVAL:P3D
CALSCALE:GREGORIAN
BEGIN:VEVENT
DTSTART;VALUE=DATE:20180509
DTEND;VALUE=DATE:20180510
TRANSP:TRANSPARENT
X-MICROSOFT-CDO-ALLDAYEVENT:TRUE
SUMMARY:United Way Day of Caring
DESCRIPTION:GET CONNECTED \n\nDay of Caring 2018\n\n\n\nDay of Caring is an organized volunteer day during which community members\, local organizations\, and business teams volunteer at local nonprofit organizations. Projects include physical repairs\, client interaction\, landscaping\, or office work and each volunteer will have the opportunity to learn more about the mission of our local nonprofits. \n\n\n\nClick here to GET CONNECTED!
X-ALT-DESC;FMTTYPE=text/html:<div><strong><span style="color:#FFA500\;"><span style="font-size:36px\;">GET CONNECTED&nbsp\;</span></span></strong><br />\n<span style="font-size:18px\;">Day of Caring 2018</span><br />\n<br />\n<span style="color: rgb(0\, 0\, 0)\; font-family: Arial\, Verdana\, Helvetica\, sans-serif\; font-size: 14px\; white-space: pre-wrap\;">Day of Caring is an organized volunteer day during which community members\, local organizations\, and business teams volunteer at local nonprofit organizations. Projects include physical repairs\, client interaction\, landscaping\, or office work and each volunteer will have the opportunity to learn more about the mission of our local nonprofits. </span><br />\n<br />\n<a data-link-type="web" href="http://getconnected.uwhr.org/need/?age=&amp\;agency\;_id=&amp\;county\;=&amp\;onDate\;=&amp\;distance\;=&amp\;zip\;=&amp\;need\;_impact_area=&amp\;need_init_id=700&amp\;qualification\;_id=&amp\;cat\;_id=&amp\;meta\;%5B%5D=&amp\;meta\;%5B%5D=&amp\;meta\;%5B%5D=&amp\;q=&amp\;allowTeams\;=&amp\;ug\;_id=&amp\;s=1" style="color: rgb(0\, 0\, 255)\; font-family: Arial\, Verdana\, Helvetica\, sans-serif\; font-size: 14px\; white-space: pre-wrap\;" target="_blank">Click here</a><span style="color: rgb(0\, 0\, 0)\; font-family: Arial\, Verdana\, Helvetica\, sans-serif\; font-size: 14px\; white-space: pre-wrap\;"> to </span><span style="color: rgb(0\, 0\, 0)\; font-family: Arial\, Verdana\, Helvetica\, sans-serif\; font-size: 14px\; white-space: pre-wrap\;">GET CONNECTED!</span></div>\n
LOCATION:James Madison University's Memorial Hall
UID:e.2338.3572
SEQUENCE:3
DTSTAMP:20260420T131634Z
URL:https://chamber.hrchamber.org/events/details/united-way-day-of-caring-3572
END:VEVENT

END:VCALENDAR
