BEGIN:VCALENDAR
VERSION:2.0
PRODID:-//ChamberMaster//Event Calendar 2.0//EN
METHOD:PUBLISH
X-PUBLISHED-TTL:P3D
REFRESH-INTERVAL:P3D
CALSCALE:GREGORIAN
BEGIN:VEVENT
DTSTART:20190522T220000Z
DTEND:20190523T000000Z
X-MICROSOFT-CDO-ALLDAYEVENT:FALSE
SUMMARY:U*Nite
DESCRIPTION:Please join us for our second annual U*Nite event on May 22nd at CrossKeys Barn at 6pm. This event honors Bright Stars in our community\, and this year we will honor two bright stars: Betty Newell from Way to Go\, Inc.\, and Candy Phillips from First Step: A Response to Domestic Violence\, as well as our Young Community Builder: Rachel Hundley Howdyshell from Open Doors\, and our Charlie Wampler\, Jr. Community Builder: Jim DeLucas from Nielsen Builders.\n\n \n\nLink for more info and tickets is here: https://uwhr.org/u-nite
X-ALT-DESC;FMTTYPE=text/html:Please join us for our second annual U*Nite event on May 22<sup>nd</sup> at CrossKeys Barn at 6pm. This event honors Bright Stars in our community\, and this year we will honor two bright stars: <strong>Betty Newell </strong>from Way to Go\, Inc.\, and <strong>Candy Phillips</strong> from First Step: A Response to Domestic Violence\, as well as our Young Community Builder: <strong>Rachel Hundley Howdyshell</strong> from Open Doors\, and our Charlie Wampler\, Jr. Community Builder: <strong>Jim DeLucas</strong> from Nielsen Builders.<br />\n&nbsp\;<br />\n<span style="font-family:calibri\,sans-serif\;"><span style="font-size:11.0pt\;">Link for more info and tickets is here: <a href="https://uwhr.org/u-nite">https://uwhr.org/u-nite</a></span></span>
LOCATION:CrossKeys Barn
UID:e.2338.6561
SEQUENCE:3
DTSTAMP:20260419T222814Z
URL:https://chamber.hrchamber.org/events/details/u-nite-6561
END:VEVENT

END:VCALENDAR
