BEGIN:VCALENDAR
VERSION:2.0
PRODID:-//ChamberMaster//Event Calendar 2.0//EN
METHOD:PUBLISH
X-PUBLISHED-TTL:P3D
REFRESH-INTERVAL:P3D
CALSCALE:GREGORIAN
BEGIN:VEVENT
DTSTART:20161219T223000Z
DTEND:20161220T003000Z
X-MICROSOFT-CDO-ALLDAYEVENT:FALSE
SUMMARY:Tutor Orientation
DESCRIPTION:
X-ALT-DESC;FMTTYPE=text/html:
LOCATION:Skyline Literacy 160 N. Mason St. Harrisonburg\, VA 22802
UID:e.2338.1516
SEQUENCE:3
DTSTAMP:20260421T182842Z
URL:https://chamber.hrchamber.org/events/details/tutor-orientation-1516
END:VEVENT

END:VCALENDAR
