BEGIN:VCALENDAR
VERSION:2.0
PRODID:-//ChamberMaster//Event Calendar 2.0//EN
METHOD:PUBLISH
X-PUBLISHED-TTL:P3D
REFRESH-INTERVAL:P3D
CALSCALE:GREGORIAN
BEGIN:VEVENT
DTSTART:20170314T220000Z
DTEND:20170314T233000Z
X-MICROSOFT-CDO-ALLDAYEVENT:FALSE
SUMMARY:Tutor Orientation
DESCRIPTION:Interested in volunteering 2 hours a week with Skyline Literacy? Learn how to get involved during this orientation! To register: http://www.skylineliteracy.org/volunteer/
X-ALT-DESC;FMTTYPE=text/html:Interested in volunteering 2 hours a week with Skyline Literacy? Learn how to get involved during this orientation! To register: http://www.skylineliteracy.org/volunteer/
LOCATION:Skyline Literacy\, 160 N. Mason St. Harrisonburg VA 22802
UID:e.2338.1551
SEQUENCE:3
DTSTAMP:20260421T134114Z
URL:https://chamber.hrchamber.org/events/details/tutor-orientation-03-14-2017-1551
END:VEVENT

END:VCALENDAR
