BEGIN:VCALENDAR
VERSION:2.0
PRODID:-//ChamberMaster//Event Calendar 2.0//EN
METHOD:PUBLISH
X-PUBLISHED-TTL:P3D
REFRESH-INTERVAL:P3D
CALSCALE:GREGORIAN
BEGIN:VEVENT
DTSTART:20180926T190000Z
DTEND:20180926T200000Z
X-MICROSOFT-CDO-ALLDAYEVENT:FALSE
SUMMARY:Tropical Smoothie Ribbon Cutting
DESCRIPTION:Join us to celebrate the opening of the second Tropical Smoothie location in Harrisonburg!
X-ALT-DESC;FMTTYPE=text/html:Join us to celebrate the opening of the second Tropical Smoothie location in Harrisonburg!&nbsp\;
LOCATION:43 Linda Lane Harrisonburg
UID:e.2338.6035
SEQUENCE:3
DTSTAMP:20260420T104134Z
URL:https://chamber.hrchamber.org/events/details/tropical-smoothie-ribbon-cutting-6035
END:VEVENT

END:VCALENDAR
