BEGIN:VCALENDAR
VERSION:2.0
PRODID:-//ChamberMaster//Event Calendar 2.0//EN
METHOD:PUBLISH
X-PUBLISHED-TTL:P3D
REFRESH-INTERVAL:P3D
CALSCALE:GREGORIAN
BEGIN:VEVENT
DTSTART:20190114T230000Z
DTEND:20190115T000000Z
X-MICROSOFT-CDO-ALLDAYEVENT:FALSE
SUMMARY:Travel Night
DESCRIPTION:Join us for a night of information about Switzerland\, Austria and Bavaria. A representative from Collette as well as Jenny Heatwole from The Wishing Well will present a program on all 3 of these countries. We will be available to answer questions about the upcoming escorted trip and show you some of the most beautiful landscapes you can imagine.
X-ALT-DESC;FMTTYPE=text/html:Join us for a night of information about Switzerland\, Austria and Bavaria. A representative from Collette as well as Jenny Heatwole from The Wishing Well will present a program on all 3 of these countries. We will be available to answer questions about the upcoming escorted trip and show you some of the most beautiful landscapes you can imagine.&nbsp\;
LOCATION:Eagle Carpet Community Room 1188 Port Republic Road Harrisonburg\, Va
UID:e.2338.6290
SEQUENCE:3
DTSTAMP:20260420T043637Z
URL:https://chamber.hrchamber.org/events/details/travel-night-6290
END:VEVENT

END:VCALENDAR
