BEGIN:VCALENDAR
VERSION:2.0
PRODID:-//ChamberMaster//Event Calendar 2.0//EN
METHOD:PUBLISH
X-PUBLISHED-TTL:P3D
REFRESH-INTERVAL:P3D
CALSCALE:GREGORIAN
BEGIN:VEVENT
DTSTART:20150724T223000Z
DTEND:20150725T013000Z
X-MICROSOFT-CDO-ALLDAYEVENT:FALSE
SUMMARY:Toast the Weekend
DESCRIPTION:We are happy to be hosting EDP (Everyday People) at Bluestone Vineyard. Food Trucks :Mama's Caboose and Mashita will be posted up for the evening serving up some delicious eats. Children\, Dogs\, and outside food are all welcome\, but absolutely NO outside alcohol.. Coolers will be checked at the gate. Gates open at 5:45 To reserve bottles of wine in advance call us today! ____________________________________________ $10 Cover gets you entry and a wine glass* $6 for Square Table that seats 1-4 people $8 for Rectangular Table that seats 5-6 people $10 for Round Table that seats 7-10 people OR Please feel free to bring your own chairs & blankets and set up shop in the grass to enjoy the beautiful scenery and music. Outside food welcome. Dog friendly. Children Friendly. Wine & music lover friendly. *trade in your Bluestone Wine Glass at the end of the night for a token that gets you a free glass of wine. Call 540-828-0099 to make Table Reservations!
X-ALT-DESC;FMTTYPE=text/html:We are happy to be hosting EDP (Everyday People) at Bluestone Vineyard. Food Trucks :Mama&#39\;s Caboose and Mashita will be posted up for the evening serving up some delicious eats. Children\, Dogs\, and outside food are all welcome\, but absolutely NO outside alcohol.. Coolers will be checked at the gate. Gates open at 5:45 To reserve bottles of wine in advance call us today! ____________________________________________ $10 Cover gets you entry and a wine glass* $6 for Square Table that seats 1-4 people $8 for Rectangular Table that seats 5-6 people $10 for Round Table that seats 7-10 people OR Please feel free to bring your own chairs &amp\; blankets and set up shop in the grass to enjoy the beautiful scenery and music. Outside food welcome. Dog friendly. Children Friendly. Wine &amp\; music lover friendly. *trade in your Bluestone Wine Glass at the end of the night for a token that gets you a free glass of wine. Call 540-828-0099 to make Table Reservations!
LOCATION:Bluestone Vineyard
UID:e.2338.266
SEQUENCE:3
DTSTAMP:20260424T190540Z
URL:https://chamber.hrchamber.org/events/details/toast-the-weekend-07-24-2015-266
END:VEVENT

END:VCALENDAR
