BEGIN:VCALENDAR
VERSION:2.0
PRODID:-//ChamberMaster//Event Calendar 2.0//EN
METHOD:PUBLISH
X-PUBLISHED-TTL:P3D
REFRESH-INTERVAL:P3D
CALSCALE:GREGORIAN
BEGIN:VEVENT
DTSTART:20190718T230000Z
DTEND:20190719T003000Z
X-MICROSOFT-CDO-ALLDAYEVENT:FALSE
SUMMARY:Third Thursday Talk At The Heritage Museum: Gravestones Have A Story To Tell
DESCRIPTION:July 18th\, 7pm: The Heritage Museum is proud to present Gravestones Have A Story To Tell\, a Third Thursday Talk by Randy Atkins. Join Randy as we explore what can be learned from the geology\, geometry\, and symbolism of gravestones and the stories they tell.
X-ALT-DESC;FMTTYPE=text/html:<span style="background-color:rgb(255\, 255\, 255)\; color:rgb(29\, 33\, 41)\; font-family:system-ui\,-apple-system\,blinkmacsystemfont\,.sfnstext-regular\,sans-serif\; font-size:14px"><strong>July 18th\, 7pm:</strong> The Heritage Museum is proud to present <em>Gravestones Have A Story To Tell</em>\, a Third Thursday Talk by Randy Atkins. Join Randy as we explore what can be learned from the geology\, geometry\, and symbolism of gravestones and the stories they tell. </span>
LOCATION:The Heritage Museum 382 High Street Dayton\, VA 22821
UID:e.2338.6626
SEQUENCE:3
DTSTAMP:20260419T195834Z
URL:https://chamber.hrchamber.org/events/details/third-thursday-talk-at-the-heritage-museum-gravestones-have-a-story-to-tell-6626
END:VEVENT

END:VCALENDAR
