BEGIN:VCALENDAR
VERSION:2.0
PRODID:-//ChamberMaster//Event Calendar 2.0//EN
METHOD:PUBLISH
X-PUBLISHED-TTL:P3D
REFRESH-INTERVAL:P3D
CALSCALE:GREGORIAN
BEGIN:VEVENT
DTSTART;VALUE=DATE:20171123
DTEND;VALUE=DATE:20171124
TRANSP:TRANSPARENT
X-MICROSOFT-CDO-ALLDAYEVENT:TRUE
SUMMARY:The Rocktown Turkey Trot : VA Momentum
DESCRIPTION:The Rocktown Turkey Trot & Gobble Gobble Kids Dash are coming up this Thanksgiving morning in downtown Harrisonburg! Join VA Momentum for this family friendly tradition with pumpkin pie samples\, a live turkey pardoning and a heavy dose of good vibes to start Thanksgiving. Proceeds benefit the Blue Ridge Area Food Bank and non-perishables will be collected at packet pickup. More info at vamomentum.com.\n\n\n\n \n\nThe Rocktown Turkey Trot is the perfect mix of fun and fitness on Thanksgiving morning (8:30am on Thursday\, November 23\, 2017). The four mile course is designed with all skill levels  in mind - and it's ideal for first-timers and veteran runners alike. The Turkey Trot is a professionally timed event (you'll receive a race bib and chip timing device at packet pickup)\, but don't let that deter you from coming dressed in your favorite Thanksgiving-themed running gear!\n\n\n\nThe Gobble Gobble Kids Dash is a can't-miss tradition for kids on Thanksgiving (8:00am on Thursday\, November 23\, 2017). They'll be energized by the roar of the crowd and feel the freedom of wind in their face as they run through the closed-down streets of Court Square in Harrisonburg. Kids Dash participants will finish prior to the start of the Rocktown Turkey Trot.
X-ALT-DESC;FMTTYPE=text/html:<h3 style="font-style: italic\;">The Rocktown Turkey Trot &amp\; Gobble Gobble Kids Dash are coming up this Thanksgiving morning in downtown Harrisonburg! Join VA Momentum for this family friendly tradition with pumpkin pie samples\, a live turkey pardoning and a heavy dose of good vibes to start Thanksgiving. Proceeds benefit the Blue Ridge Area Food Bank and non-perishables will be collected at packet pickup. More info at <a href="http://vamomentum.com">vamomentum.com</a>.<br />\n<br />\n&nbsp\;</h3>\n\n<div style="background:#eee\;border:1px solid #ccc\;padding:5px 10px\;"><span class="marker" style=""><span style="color: rgb(0\, 0\, 0)\;"><span style="font-family: &quot\;Open Sans&quot\;\, sans-serif\; font-size: 16px\;"><u>The&nbsp\;Rocktown&nbsp\;Turkey Trot</u> is the perfect mix of fun and fitness on Thanksgiving morning (8:30am on Thursday\, November 23\, 2017). The four mile&nbsp\;</span></span><a href="https://www.vamomentum.com/detailscourse-map.html" style="color: rgb(254\, 184\, 19)\; text-decoration-line: none\; font-family: &quot\;Open Sans&quot\;\, sans-serif\; font-size: 16px\;"><span style="color:#000000\;">course</span></a><span style="color: rgb(0\, 0\, 0)\; font-family: &quot\;Open Sans&quot\;\, sans-serif\; font-size: 16px\;">&nbsp\;is designed with all skill levels &nbsp\;in mind - and it&#39\;s ideal for first-timers and veteran runners alike. The Turkey Trot is a professionally timed event (you&#39\;ll receive a race bib and chip timing device at packet pickup)\, but don&#39\;t let that deter you from coming dressed in your favorite Thanksgiving-themed running gear!</span><br style="color: rgb(255\, 255\, 255)\; font-family: &quot\;Open Sans&quot\;\, sans-serif\; font-size: 16px\;" />\n<br style="color: rgb(255\, 255\, 255)\; font-family: &quot\;Open Sans&quot\;\, sans-serif\; font-size: 16px\;" />\n<span style="font-family: &quot\;Open Sans&quot\;\, sans-serif\; font-size: 16px\;"><font color="#000000"><u>The Gobble Gobble Kids Dash</u> is a can&#39\;t-miss tradition for kids on Thanksgiving (8:</font>00am<font color="#000000"> on Thursday\, November 23\, 2017). They&#39\;ll be energized by the roar of the crowd and feel the freedom of wind in their face as they run through the closed-down streets of Court Square in Harrisonburg. Kids Dash participants will finish prior to the start of the </font>Rocktown<font color="#000000"> Turkey Trot.&nbsp\;</font></span></span></div>\n
LOCATION:
UID:e.2338.3324
SEQUENCE:3
DTSTAMP:20260420T055203Z
URL:https://chamber.hrchamber.org/events/details/the-rocktown-turkey-trot-va-momentum-3324
END:VEVENT

END:VCALENDAR
