BEGIN:VCALENDAR
VERSION:2.0
PRODID:-//ChamberMaster//Event Calendar 2.0//EN
METHOD:PUBLISH
X-PUBLISHED-TTL:P3D
REFRESH-INTERVAL:P3D
CALSCALE:GREGORIAN
BEGIN:VEVENT
DTSTART:20170803T210000Z
DTEND:20170803T230000Z
X-MICROSOFT-CDO-ALLDAYEVENT:FALSE
SUMMARY:The Reserve at Stoneport BAH Event RSVP
DESCRIPTION:The Reserve at Stone Port Business After Hours
X-ALT-DESC;FMTTYPE=text/html:The Reserve at Stone Port Business After Hours
LOCATION:The Reserve at Stone Port 2015 Reserve Circle Harrisonburg\, VA 22801
UID:e.2338.3180
SEQUENCE:3
DTSTAMP:20260419T234648Z
URL:https://chamber.hrchamber.org/events/details/the-reserve-at-stoneport-bah-event-rsvp-3180
END:VEVENT

END:VCALENDAR
