BEGIN:VCALENDAR
VERSION:2.0
PRODID:-//ChamberMaster//Event Calendar 2.0//EN
METHOD:PUBLISH
X-PUBLISHED-TTL:P3D
REFRESH-INTERVAL:P3D
CALSCALE:GREGORIAN
BEGIN:VEVENT
DTSTART:20200117T000000Z
DTEND:20200117T013000Z
X-MICROSOFT-CDO-ALLDAYEVENT:FALSE
SUMMARY:The Potter's Progress: Emanuel Suter and the Business of Craft with Scott Suter
DESCRIPTION:In his new book\, local author and Bridgewater College Professor Scott Suter explores the trials and triumphs of his Rockingham County ancestor Emanuel Suter (1833-1902)\, who progressively moved his pottery from cottage industry to full-scale industrial enterprise   well before such economic change would characterize the twentieth century.\n\nCome hear about Rockingham's pottery revolution! Book sales and signings are anticipated.
X-ALT-DESC;FMTTYPE=text/html:<span style="font-size:14px"><span style="font-family:times new roman\,serif">In his new book\, local author and Bridgewater College Professor Scott Suter explores the trials and triumphs of his Rockingham County ancestor Emanuel Suter (1833-1902)\, who progressively moved his pottery from cottage industry to full-scale industrial enterprise &ndash\; well before such economic change would characterize the twentieth century.<br />\nCome hear about Rockingham&rsquo\;s pottery revolution! Book sales and signings are anticipated.</span></span><br />\n&nbsp\;
LOCATION:The Heritage Museum 382 High Street Dayton\, VA 22821
UID:e.2338.8521
SEQUENCE:3
DTSTAMP:20260419T125342Z
URL:https://chamber.hrchamber.org/events/details/the-potter-s-progress-emanuel-suter-and-the-business-of-craft-with-scott-suter-8521
END:VEVENT

END:VCALENDAR
