BEGIN:VCALENDAR
VERSION:2.0
PRODID:-//ChamberMaster//Event Calendar 2.0//EN
METHOD:PUBLISH
X-PUBLISHED-TTL:P3D
REFRESH-INTERVAL:P3D
CALSCALE:GREGORIAN
BEGIN:VEVENT
DTSTART:20180922T130000Z
DTEND:20180922T203000Z
X-MICROSOFT-CDO-ALLDAYEVENT:FALSE
SUMMARY:The Parent Conference
DESCRIPTION:The Parent Conference is a one-day educational and personal development event for anyone interested in the science of raising happy\, healthy\, and successful children. The conference will feature over a dozen experts who translate the latest psychological research into practical parenting tips.
X-ALT-DESC;FMTTYPE=text/html:The Parent Conference is a one-day educational and personal development event for anyone interested in the science of raising happy\, healthy\, and successful children. The conference will feature over a dozen experts who translate the latest psychological research into practical parenting tips.
LOCATION:Festival Conference and Student Center
UID:e.2338.5959
SEQUENCE:3
DTSTAMP:20260420T102645Z
URL:https://chamber.hrchamber.org/events/details/the-parent-conference-5959
END:VEVENT

END:VCALENDAR
