BEGIN:VCALENDAR
VERSION:2.0
PRODID:-//ChamberMaster//Event Calendar 2.0//EN
METHOD:PUBLISH
X-PUBLISHED-TTL:P3D
REFRESH-INTERVAL:P3D
CALSCALE:GREGORIAN
BEGIN:VEVENT
DTSTART:20160814T190000Z
DTEND:20160814T190000Z
X-MICROSOFT-CDO-ALLDAYEVENT:FALSE
SUMMARY:The One More Last Chance Diner
DESCRIPTION:Written by Jay Zehr
X-ALT-DESC;FMTTYPE=text/html:Written by Jay Zehr&nbsp\;&nbsp\;&nbsp\;&nbsp\;
LOCATION:Court Square Theater
UID:e.2338.489
SEQUENCE:3
DTSTAMP:20260422T004148Z
URL:https://chamber.hrchamber.org/events/details/the-one-more-last-chance-diner-08-14-2016-489
END:VEVENT

END:VCALENDAR
