BEGIN:VCALENDAR
VERSION:2.0
PRODID:-//ChamberMaster//Event Calendar 2.0//EN
METHOD:PUBLISH
X-PUBLISHED-TTL:P3D
REFRESH-INTERVAL:P3D
CALSCALE:GREGORIAN
BEGIN:VEVENT
DTSTART:20160811T233000Z
DTEND:20160813T233000Z
X-MICROSOFT-CDO-ALLDAYEVENT:FALSE
SUMMARY:The One More Last Chance Diner
DESCRIPTION:Written and Directed by Jay Zehr
X-ALT-DESC;FMTTYPE=text/html:Written and Directed by Jay Zehr
LOCATION:Court Square Theater
UID:e.2338.487
SEQUENCE:3
DTSTAMP:20260422T004117Z
URL:https://chamber.hrchamber.org/events/details/the-one-more-last-chance-diner-08-11-2016-487
END:VEVENT

END:VCALENDAR
