BEGIN:VCALENDAR
VERSION:2.0
PRODID:-//ChamberMaster//Event Calendar 2.0//EN
METHOD:PUBLISH
X-PUBLISHED-TTL:P3D
REFRESH-INTERVAL:P3D
CALSCALE:GREGORIAN
BEGIN:VEVENT
DTSTART:20160521T170000Z
DTEND:20160521T210000Z
X-MICROSOFT-CDO-ALLDAYEVENT:FALSE
SUMMARY:The Many Voices of Harrisonburg
DESCRIPTION:Children?s stories from three cultures will be read/performed to celebrate the art of story as an oral tradition and art form. The Many Voices of Harrisonburg documentary highlights eight stories from Harrisonburg residents about their journey and experiences.
X-ALT-DESC;FMTTYPE=text/html:Children?s stories from three cultures will be read/performed to celebrate the art of story as an oral tradition and art form. The Many Voices of Harrisonburg documentary highlights eight stories from Harrisonburg residents about their journey and experiences.
LOCATION:Memorial Hall Forum\, Door B 395 S. High St. Harrisonburg\, VA 22801
UID:e.2338.405
SEQUENCE:3
DTSTAMP:20260422T045514Z
URL:https://chamber.hrchamber.org/events/details/the-many-voices-of-harrisonburg-05-21-2016-405
END:VEVENT

END:VCALENDAR
