BEGIN:VCALENDAR
VERSION:2.0
PRODID:-//ChamberMaster//Event Calendar 2.0//EN
METHOD:PUBLISH
X-PUBLISHED-TTL:P3D
REFRESH-INTERVAL:P3D
CALSCALE:GREGORIAN
BEGIN:VEVENT
DTSTART:20160502T170000Z
DTEND:20160502T180000Z
X-MICROSOFT-CDO-ALLDAYEVENT:FALSE
SUMMARY:The History of Western State Hospital through Photos
DESCRIPTION:View the history of Western State Hospital in Staunton through photos.
X-ALT-DESC;FMTTYPE=text/html:View the history of Western State Hospital in Staunton through photos.
LOCATION:Central Library\, Harrisonburg
UID:e.2338.377
SEQUENCE:3
DTSTAMP:20260422T045536Z
URL:https://chamber.hrchamber.org/events/details/the-history-of-western-state-hospital-through-photos-05-02-2016-377
END:VEVENT

END:VCALENDAR
