BEGIN:VCALENDAR
VERSION:2.0
PRODID:-//ChamberMaster//Event Calendar 2.0//EN
METHOD:PUBLISH
X-PUBLISHED-TTL:P3D
REFRESH-INTERVAL:P3D
CALSCALE:GREGORIAN
BEGIN:VEVENT
DTSTART:20170610T230000Z
DTEND:20170611T010000Z
X-MICROSOFT-CDO-ALLDAYEVENT:FALSE
SUMMARY:The Harrisonburg Dance Cooperative Presents: "Split"
DESCRIPTION:The Harrisonburg Dance Cooperative will present their 2017 Main Stage performance\, "Split\," at Court Square Theater in downtown Harrisonburg on Saturday\, June 10th at 7p.m for audiences of all ages. "Split" explores the extremes of human experience. The dancers in each piece embody human life at its most vulnerable\, or its most vivacious. Visit us online at http://www.hburgdancecoop.org
X-ALT-DESC;FMTTYPE=text/html:The Harrisonburg Dance Cooperative will present their 2017 Main Stage performance\, &ldquo\;Split\,&rdquo\; at Court Square Theater in downtown Harrisonburg on Saturday\, June 10th at 7p.m for audiences of all ages. &ldquo\;Split&rdquo\; explores the extremes of human experience. The dancers in each piece embody human life at its most vulnerable\, or its most vivacious. Visit us online at http://www.hburgdancecoop.org
LOCATION:Court Square Theater 41-F Court Square Harrisonburg\, VA 22801
UID:e.2338.3004
SEQUENCE:3
DTSTAMP:20260419T220714Z
URL:https://chamber.hrchamber.org/events/details/the-harrisonburg-dance-cooperative-presents-split-3004
END:VEVENT

END:VCALENDAR
