BEGIN:VCALENDAR
VERSION:2.0
PRODID:-//ChamberMaster//Event Calendar 2.0//EN
METHOD:PUBLISH
X-PUBLISHED-TTL:P3D
REFRESH-INTERVAL:P3D
CALSCALE:GREGORIAN
BEGIN:VEVENT
DTSTART:20151202T210000Z
DTEND:20151203T000000Z
X-MICROSOFT-CDO-ALLDAYEVENT:FALSE
SUMMARY:The Beauty Spa Open House
DESCRIPTION:The Beauty Spa \n\nCelebrate with us at our  Holiday   Open House\n\nOn Wednesday\, December 2nd from 4-7pm\n\n Featuring:\n\n\n\nCross keys vineyard-- Joy wine\, hot cider\, and cheese \n\nAveda make-up artist Desaree Wallace-- make-up touch-up s\n\nAveda esthetician Jamie cox-- skin consultations \n\nTess\, Jenn\, Leah\, Sonya\, Taryn-- chair and hand massages \n\nProduct discounts of 10% and 20% \n\nKristen Suter- Blye-- jewelry \n\nEmily Smith-- jewelry and photography \n\nTess Sherman-- painting and show
X-ALT-DESC;FMTTYPE=text/html:<span style="font-family:arial\,sans-serif\;">The Beauty Spa&nbsp\;</span><br />\n<span style="font-family:arial\,sans-serif\;">Celebrate with us at our</span>&nbsp\;<span style="font-family:arial\,sans-serif\;"><span style="font-size:18pt\;">&#8203\;</span></span><span style="font-family:arial\,sans-serif\;">Holiday&#8203\;&nbsp\;</span><span style="font-family:arial\,sans-serif\;">&#8203\;Open House</span><br />\n<span style="font-family:arial\,sans-serif\;">On Wednesday\, December 2<sup>nd</sup> from 4-7pm</span><br />\n&nbsp\;<span style="font-family:arial\,sans-serif\;">Featuring:</span><br />\n<br />\n<span style="font-family:arial\,sans-serif\;">Cross keys vineyard-- Joy wine\, hot cider\, and cheese </span><br />\n<span style="font-family:arial\,sans-serif\;">Aveda make-up artist Desaree Wallace-- make-up touch-up s</span><br />\n<span style="font-family:arial\,sans-serif\;">Aveda esthetician Jamie cox-- skin consultations </span><br />\n<span style="font-family:arial\,sans-serif\;">Tess\, Jenn\, Leah\, Sonya\, Taryn-- chair and hand massages </span><br />\n<span style="font-family:arial\,sans-serif\;">Product discounts of 10% and 20% </span><br />\n<span style="font-family:arial\,sans-serif\;">Kristen Suter- Blye-- jewelry </span><br />\n<span style="font-family:arial\,sans-serif\;">Emily Smith-- jewelry and photography </span><br />\n<span style="font-family:arial\,sans-serif\;">Tess Sherman-- painting and show&nbsp\;</span>&nbsp\;
LOCATION:The Beauty Spa 510 E. Market St. Harrisonburg\, VA 22801 540-564-1925
UID:e.2338.310
SEQUENCE:3
DTSTAMP:20260424T114935Z
URL:https://chamber.hrchamber.org/events/details/the-beauty-spa-open-house-12-02-2015-310
END:VEVENT

END:VCALENDAR
