BEGIN:VCALENDAR
VERSION:2.0
PRODID:-//ChamberMaster//Event Calendar 2.0//EN
METHOD:PUBLISH
X-PUBLISHED-TTL:P3D
REFRESH-INTERVAL:P3D
CALSCALE:GREGORIAN
BEGIN:VEVENT
DTSTART:20180924T140000Z
DTEND:20180924T150000Z
X-MICROSOFT-CDO-ALLDAYEVENT:FALSE
SUMMARY:Ten Thousand Villages Ribbon Cutting
DESCRIPTION:
X-ALT-DESC;FMTTYPE=text/html:
LOCATION:181 South Main St\, Harrisonburg
UID:e.2338.5978
SEQUENCE:3
DTSTAMP:20260420T104455Z
URL:https://chamber.hrchamber.org/events/details/ten-thousand-villages-ribbon-cutting-5978
END:VEVENT

END:VCALENDAR
