BEGIN:VCALENDAR
VERSION:2.0
PRODID:-//ChamberMaster//Event Calendar 2.0//EN
METHOD:PUBLISH
X-PUBLISHED-TTL:P3D
REFRESH-INTERVAL:P3D
CALSCALE:GREGORIAN
BEGIN:VEVENT
DTSTART:20160620T213000Z
DTEND:20160621T000000Z
X-MICROSOFT-CDO-ALLDAYEVENT:FALSE
SUMMARY:Teen Night @ the Movies
DESCRIPTION:Teens\, ages 11-17\, are invited to join Central staff for a costume contest (with a prize for the winning costume) snacks\, and a movie.
X-ALT-DESC;FMTTYPE=text/html:Teens\, ages 11-17\, are invited to join Central staff for a costume contest (with a prize for the winning costume) snacks\, and a movie.
LOCATION:Central Library\, Harrisonburg
UID:e.2338.434
SEQUENCE:3
DTSTAMP:20260422T032655Z
URL:https://chamber.hrchamber.org/events/details/teen-night-the-movies-06-20-2016-434
END:VEVENT

END:VCALENDAR
