BEGIN:VCALENDAR
VERSION:2.0
PRODID:-//ChamberMaster//Event Calendar 2.0//EN
METHOD:PUBLISH
X-PUBLISHED-TTL:P3D
REFRESH-INTERVAL:P3D
CALSCALE:GREGORIAN
BEGIN:VEVENT
DTSTART:20181103T120000Z
DTEND:20181103T170000Z
X-MICROSOFT-CDO-ALLDAYEVENT:FALSE
SUMMARY:TECHSTERS: A Cybersecurity Capture the Flag Event for Girls
DESCRIPTION:Looking for some tech fun this fall?\n\n\n\nThen join us for TECHSTERS on November 3rd and compete to win an iPad!\n\n\n\nThis event is open to all middle-school girls within the Shenandoah Valley.\n\n\n\nRegistration is NOW OPEN!\n\n\n\nTECHSTERS is a capture-the-flag (CTF) event that will expose middle-school girls to the cybersecurity industry in a fun and interactive game style. This program is meant to inspire a future generation to discover technology\, get excited about STEM\, and build code for real-world applications. The event will take place at JMU's Lakeview Hall. Parking will be available for parents if they wish to stay and watch the event.\n\n\n\nMore information and registration at www.tinyurl.com/SV-TECHSTERS2018
X-ALT-DESC;FMTTYPE=text/html:<p style="text-align: center\;"><strong><span style="color:#333333"><span style="font-family:helvetica"><span style="font-size:10.0pt">Looking for some tech fun this fall?</span></span></span></strong><br />\n<br />\n<span style="color:#333333"><span style="font-family:helvetica"><span style="font-size:10.0pt">Then join us for TECHSTERS on November 3<sup>rd</sup> and compete to win an iPad!<br />\n<br />\nT</span></span></span><span style="color:#333333"><span style="font-family:helvetica"><span style="font-size:10.0pt">his event is open to all middle-school girls within the Shenandoah Valley.</span></span></span><br />\n<br />\n<span style="color:#333333"><span style="font-family:helvetica"><span style="font-size:10.0pt">Registration is NOW OPEN!</span></span></span><br />\n<br />\n<span style="color:#333333"><span style="font-family:helvetica"><span style="font-size:10.0pt">TECHSTERS is a capture-the-flag (CTF) event that will expose middle-school girls to the cybersecurity industry in a fun and interactive game style. This program is meant to inspire a future generation to discover technology\, get excited about STEM\, and build code for real-world applications. The event will take place at JMU&rsquo\;s Lakeview Hall. Parking will be available for parents if they wish to stay and watch the event.</span></span></span><br />\n<br />\n<span style="color:#333333"><span style="font-family:helvetica"><span style="font-size:10.0pt">More information and registration at <a href="https://svtc-va.org/event/techsters-2018/">www.tinyurl.com/SV-TECHSTERS2018</a></span></span></span><br />\n&nbsp\;</p>\n
LOCATION:JMU Lakeview Hall 298 Port Republic Rd Harrisonburg\, VA
UID:e.2338.6024
SEQUENCE:3
DTSTAMP:20260420T074935Z
URL:https://chamber.hrchamber.org/events/details/techsters-a-cybersecurity-capture-the-flag-event-for-girls-6024
END:VEVENT

END:VCALENDAR
