BEGIN:VCALENDAR
VERSION:2.0
PRODID:-//ChamberMaster//Event Calendar 2.0//EN
METHOD:PUBLISH
X-PUBLISHED-TTL:P3D
REFRESH-INTERVAL:P3D
CALSCALE:GREGORIAN
BEGIN:VEVENT
DTSTART:20190429T213000Z
DTEND:20190430T010000Z
X-MICROSOFT-CDO-ALLDAYEVENT:FALSE
SUMMARY:TechNite19
DESCRIPTION:Reservations for TechNite19 are now OPEN!\n\nOn April 29\, 2019 the Valley's tech users and creators will gather to highlight local tech innovation in 8 categories. We call it TechNite19. We'll celebrate the successes of technology firms\, organizations and programs in the region   and the entrepreneurs\, innovators\, leaders\, and educators behind the scenes. Join us on April 29th as we gather for the 19th time to honor the Valley's best and brightest. Make your reservation at https://svtc-va.org/technite19-reservation-form/\n\n\n\nSponsorship\n\nBecoming involved as a Tech Nite sponsor provides an outstanding opportunity for visibility. Attended by the key players in the technology community a Tech Nite sponsorship positions the sponsor's name\, logo\, and website as a leader in the area. Fore more information about sponsorship opportunities\, please see https://svtc-va.org/tech-nite-sponsorships/\n\n\n\nFor more information\, please visit https://svtc-va.org/about-tech-nite/\n\n\n\nGet your ticket TODAY!
X-ALT-DESC;FMTTYPE=text/html:<span style="font-size:14px"><span style="font-size:16px"><strong>Reservations for TechNite19 are now OPEN!</strong></span><br />\nOn April 29\, 2019 the Valley&rsquo\;s tech users and creators will gather to highlight local&nbsp\;tech innovation in 8 categories. We call it TechNite19. We&rsquo\;ll celebrate the successes of&nbsp\;<em>technology firms\, organizations and programs in the region &mdash\; and the entrepreneurs\, innovators\, leaders\, and educators behind the scenes.&nbsp\;</em>Join us on April 29th as we gather for the 19th time to honor the Valley&rsquo\;s best and brightest. Make your reservation at&nbsp\;<u><a href="https://svtc-va.org/technite19-reservation-form/" style="font-family: arial\, helvetica\, sans-serif\; font-size: 14px\;">https://svtc-va.org/technite19-reservation-form/</a></u><br />\n<br />\n<span style="font-size:16px"><strong>Sponsorship</strong></span><br />\nBecoming involved as a Tech Nite sponsor provides an outstanding opportunity for visibility. Attended by the key players in the technology community a Tech Nite sponsorship positions the sponsor&rsquo\;s name\, logo\, and website as a leader in the area. Fore more information about sponsorship opportunities\, please see&nbsp\;<u><span style="color:blue"><a href="https://svtc-va.org/tech-nite-sponsorships/" style="box-sizing: border-box\; font-style: inherit\; font-variant: inherit\; font-weight: inherit\; font-stretch: inherit\; font-size: inherit\; line-height: inherit\; outline: 0px\; max-width: 100%\;">https://svtc-va.org/tech-nite-sponsorships/</a></span></u><br />\n<br />\nFor more information\, please visit&nbsp\;<u><a href="https://svtc-va.org/about-tech-nite/" style="font-family: arial\, helvetica\, sans-serif\; font-size: 14px\;">https://svtc-va.org/about-tech-nite/</a></u><br />\n<br />\n<span style="font-size:16px"><u><a href="https://svtc-va.org/technite19-reservation-form/"><strong>Get your ticket TODAY!</strong></a></u></span></span>
LOCATION:JMU Festival Conference & Student Center 1301 Carrier Dr Harrisonburg\, VA 22807
UID:e.2338.6324
SEQUENCE:3
DTSTAMP:20260419T235144Z
URL:https://chamber.hrchamber.org/events/details/technite19-6324
END:VEVENT

END:VCALENDAR
