BEGIN:VCALENDAR
VERSION:2.0
PRODID:-//ChamberMaster//Event Calendar 2.0//EN
METHOD:PUBLISH
X-PUBLISHED-TTL:P3D
REFRESH-INTERVAL:P3D
CALSCALE:GREGORIAN
BEGIN:VEVENT
DTSTART:20180502T213000Z
DTEND:20180503T010000Z
X-MICROSOFT-CDO-ALLDAYEVENT:FALSE
SUMMARY:Tech Nite 2018 Awards Gala
DESCRIPTION:Once a year\, the Shenandoah Valley Technology Council highlights tech local innovation. We celebrate the successes of technology firms\, organizations and programs in the region   and the entrepreneurs\, innovators\, leaders\, and educators behind those successes. Please join us on May 2nd as we gather for the 18th time to honor the Valley's best and brightest.\n\n\n\nFor more information about Tech Nite please visit\, www.svtc-va.org/about-tech-nite.\n\n\n\nRESERVATIONS ARE NOW OPEN! REGISTER FOR TECH NITE 2018.
X-ALT-DESC;FMTTYPE=text/html:Once a year\, the Shenandoah Valley Technology Council highlights tech local innovation. We celebrate the successes of&nbsp\;<em>technology firms\, organizations and programs in the region &mdash\; and the entrepreneurs\, innovators\, leaders\, and educators behind those successes.&nbsp\;</em>Please join us on May 2nd as we gather for the 18th time to honor the Valley&rsquo\;s best and brightest.<br />\n<br />\nFor more information about Tech Nite please visit\,&nbsp\;<a href="https://svtc-va.org/about-tech-nite">www.svtc-va.org/about-tech-nite</a>.<br />\n<br />\n<strong>RESERVATIONS&nbsp\;ARE NOW OPEN!&nbsp\;<a href="https://svtc-va.org/tech-nite-2018-reservations-form/">REGISTER FOR TECH NITE 2018.</a></strong>
LOCATION:JMU Festival Conference & Student Center 1301 Carrier Dr Harrisonburg\, VA 22807
UID:e.2338.4766
SEQUENCE:3
DTSTAMP:20260420T131344Z
URL:https://chamber.hrchamber.org/events/details/tech-nite-2018-awards-gala-4766
END:VEVENT

END:VCALENDAR
