BEGIN:VCALENDAR
VERSION:2.0
PRODID:-//ChamberMaster//Event Calendar 2.0//EN
METHOD:PUBLISH
X-PUBLISHED-TTL:P3D
REFRESH-INTERVAL:P3D
CALSCALE:GREGORIAN
BEGIN:VEVENT
DTSTART:20160721T230000Z
DTEND:20160722T000000Z
X-MICROSOFT-CDO-ALLDAYEVENT:FALSE
SUMMARY:Swing Dancing @ Central Library
DESCRIPTION:Instructors will present a session on the basics of swing dancing for beginners. This session is part of the Adult Reading Program.
X-ALT-DESC;FMTTYPE=text/html:Instructors will present a session on the basics of swing dancing for beginners. This session is part of the Adult Reading Program.
LOCATION:Central Library
UID:e.2338.440
SEQUENCE:3
DTSTAMP:20260422T014823Z
URL:https://chamber.hrchamber.org/events/details/swing-dancing-central-library-07-21-2016-440
END:VEVENT

END:VCALENDAR
